BEGIN:VCALENDAR
VERSION:2.0
PRODID:-//ChamberMaster//Event Calendar 2.0//EN
METHOD:PUBLISH
X-PUBLISHED-TTL:P3D
REFRESH-INTERVAL:P3D
CALSCALE:GREGORIAN
BEGIN:VEVENT
DTSTART:20190501T000000Z
DTEND:20190501T010000Z
X-MICROSOFT-CDO-ALLDAYEVENT:FALSE
SUMMARY:State of the City Address
DESCRIPTION:NEW DATE & LOCATION: Tuesday\, April 30\, 2019 -- Kenneday Secondary School Auditorium\n\nMayor Ben Schierer together with the Fergus Falls City Council invite you to join them for the State of the City with special guest Governor Tim Walz.\n\n\n\n"We invite the citizens of Fergus Falls to join us at the State of the City\, where we will outline our vision for the future of Fergus Falls. We have a bright future\, and we are confident in our ability to achieve our goals through collaboration and civility. Together we can accomplish growth and progress." Mayor Ben Schierer.\n\n\n\nThis event is free and open to the public. Program will begin promptly at 7 P.M. with doors opening at 6:30 P.M. \n\n\n\nThe State of the City will be live-streamed and broadcast on radio station Channel 977 (97.7).  Some of the local restaurants will be airing the address.
X-ALT-DESC;FMTTYPE=text/html:<span>NEW DATE &amp\; LOCATION: Tuesday\, April 30\, 2019 -- Kenneday Secondary School Auditorium<br />\nMayor Ben Schierer together with the Fergus Falls City Council invite you to join them for the State of the City with special guest Governor Tim Walz.<br />\n<br />\n&ldquo\;We invite the citizens of Fergus Falls to join us at the State of the City\, where we will outline our vision for the future of Fergus Falls. We have a bright future\, and we are confident in our ability to achieve our goals through collaboration and civility. Together we can accomplish growth and progress.&rdquo\; Mayor Ben Schierer.<br />\n<br />\nThis event is free and open to the public<a data-lynx-mode="hover" data-lynx-uri="http://l.facebook.com/l.php?u=http%3A%2F%2FFergusarts.org%2F%3Ffbclid%3DIwAR1NshyWQDxuShzQ-OoISP9bJzz0D8JP1GStiMxrd6GaBrVnUFGz95VT8Sk&amp\;h=AT20wvep9tcXRv8NFUSz5RckuLTkUyp2b8r-xpNd5RZmlCtNOAJ2vX4fHXvTsIH1yhyiOZhuZO_WYHZfE3sd1sph24mrdhcv7obz9pm7DWaOGRzNLegA59VjhTl9iGCGKA" href="http://fergusarts.org/?fbclid=IwAR1NshyWQDxuShzQ-OoISP9bJzz0D8JP1GStiMxrd6GaBrVnUFGz95VT8Sk" rel="nofollow" target="_blank"><font color="#0066cc">.</font></a> Program will begin promptly at 7 P.M. with doors opening at 6:30 P.M.&nbsp\;</span><br />\n<br />\nThe State of the City will be live-streamed and broadcast on radio station Channel 977 (97.7).&nbsp\; Some of the local restaurants will be airing the address.<br />\n&nbsp\;
LOCATION:Kennedy Secondary School Fergus Falls\, MN 56537
UID:e.314.52644
SEQUENCE:3
DTSTAMP:20260423T075909Z
URL:https://business.fergusfalls.com/events/details/state-of-the-city-address-52644
END:VEVENT

END:VCALENDAR
