BEGIN:VCALENDAR
VERSION:2.0
PRODID:-//ChamberMaster//Event Calendar 2.0//EN
METHOD:PUBLISH
X-PUBLISHED-TTL:P3D
REFRESH-INTERVAL:P3D
CALSCALE:GREGORIAN
BEGIN:VEVENT
DTSTART:20170223T170000Z
DTEND:20170223T191500Z
X-MICROSOFT-CDO-ALLDAYEVENT:FALSE
SUMMARY:State of the City Luncheon 2017
DESCRIPTION:Fergus Falls State of the City Luncheon\n\nHear enlightening and up-to-date information about Fergus Falls\, directly from the sources.\n\n \n\n11:00am- 11:30am Registration\, Networking and Music from Fergus Falls High School Orchestra\n\n11:30am Lunch Served\n\nLunch Menu: Chicken Breast with Parmesan Sauce served over Wild Rice Pilaf\, Key Largo Vegetables (green beans\, red peppers\, orange and yellow carrots)\, dinner roll and coffee. Vegan option: Vegetable Kabobs.\n\n11:45am Program/Presentations/Participation\n\n"Business Gives" Recognition - Fergus Falls Area Chamber of Commerce\n\nEconomic Improvement: Downtown Riverfront Master Plan\, Workforce Development\, Business Survey Results\, Rural Rebound Initiative\n\nChamber of Commerce: Emerging Leaders\, Young Professionals Network (YPN) & Chamber Building Renovation\n\nConvention & Visitors Bureau (Visit Fergus Falls): TRAM\, CheckPointMN\, Trail Development\n\n12:35pm Keynote Speaker: Mayor of Fergus Falls Ben Schierer\n\nClick Here for Business Gives Form\n\n\n\n The event is a partnership between the City of Fergus Falls\, Fergus Falls Area Chamber of Commerce\, Convention & Visitors Bureau (CVB) and Economic Improvement Commission (EIC).\n\n\n\n$25/per person. Advance tickets only. Register by February 10\, 2017.
X-ALT-DESC;FMTTYPE=text/html:<p _mce_style="margin: 0in 0in 10pt\;" style="margin: 0in 0in 10pt\;"><span style="font-size: 20px\;"><em><span style="font-family: times new roman\;"><span style="color: rgb(0\, 0\, 0)\;"><strong>Fergus Falls State of the City Luncheon</strong></span></span></em></span><br />\n<span style="color: rgb(0\, 0\, 0)\; font-family: tahoma\; font-size: 12px\;">Hear enlightening and up-to-date information about Fergus Falls\, directly&nbsp\;from the </span><span style="color: rgb(0\, 0\, 0)\; font-family: tahoma\; font-size: 12px\;">sources.<br />\n&#8203\;</span><br />\n<span style="font-size: 12px\;"><span style="font-family: tahoma\;"><span style="color: rgb(0\, 0\, 0)\;"><span style="font-weight: bold\; language: en-US\;">11</span></span></span></span><span style="font-size: 12px\;"><span style="font-family: tahoma\;"><span style="color: rgb(0\, 0\, 0)\;"><span style="font-weight: bold\; language: en-US\;">:00am- 11:30am Registration\, Networking and Music from Fergus Falls High School Orchestra<br />\n11:30am Lunch Served</span></span></span></span><br />\n<span style="color: rgb(0\, 0\, 0)\; font-family: tahoma\; font-size: 12px\; font-style: italic\;">Lunch Menu: Chicken Breast with Parmesan Sauce served over Wild Rice Pilaf\, Key Largo Vegetables (green beans\, red peppers\, orange and&nbsp\;</span><span style="color: rgb(0\, 0\, 0)\; font-family: tahoma\; font-size: 12px\; font-style: italic\;">yellow carrots)\, dinner roll and coffee. Vegan option: Vegetable Kabobs.</span><br />\n<span style="font-size: 12px\;"><span style="font-family: tahoma\;"><span style="color: rgb(0\, 0\, 0)\;"><span style="font-weight: bold\; language: en-US\;">11:45am Program/Presentations/Participation</span><br />\n&quot\;Business Gives&quot\; Recognition - Fergus Falls Area Chamber of Commerce<br />\nEconomic Improvement: Downtown&nbsp\;Riverfront Master Plan\, Workforce Development\, Business Survey Results\, Rural Rebound Initiative<br />\nChamber of Commerce: Emerging Leaders\,&nbsp\;Young Professionals Network (YPN) &amp\; Chamber Building Renovation<br />\nConvention &amp\; Visitors Bureau (Visit Fergus Falls): TRAM\,&nbsp\;CheckPointMN\, Trail Development<br />\n<b>12:35pm Keynote Speaker: Mayor of Fergus Falls Ben Schierer</b><br style="line-height: 16.64px\; font-family: verdana\;" />\n<span style="line-height: 16.64px\;"><a href="https://chambermaster.blob.core.windows.net/userfiles/UserFiles/chambers/314/File/2017BusinessGivesParticipationForm.pdf">Click Here for Business Gives Form</a></span><br />\n<br />\n&nbsp\;The event is&nbsp\;a partnership between the City of Fergus Falls\, Fergus Falls Area Chamber of Commerce\, Convention &amp\; Visitors Bureau (CVB) and Economic Improvement Commission (EIC).<br />\n<br />\n$25/per person. Advance tickets only. Register by February 10\, 2017.</span></span></span></p>\n
LOCATION:Bigwood Event Center 925 Western Ave. Fergus Falls\, MN 56537
UID:e.314.36973
SEQUENCE:3
DTSTAMP:20260424T225457Z
URL:https://business.fergusfalls.com/events/details/state-of-the-city-luncheon-2017-36973
END:VEVENT

END:VCALENDAR
