BEGIN:VCALENDAR
VERSION:2.0
PRODID:-//ChamberMaster//Event Calendar 2.0//EN
METHOD:PUBLISH
X-PUBLISHED-TTL:P3D
REFRESH-INTERVAL:P3D
CALSCALE:GREGORIAN
BEGIN:VEVENT
DTSTART:20160811T150000Z
DTEND:20160814T180000Z
X-MICROSOFT-CDO-ALLDAYEVENT:FALSE
SUMMARY:State VFW Baseball Tournament
DESCRIPTION:The 2016 State VFW Baseball Tournament\n\nAugust 11 10am  through August 14 1:00 pm\n\n\n\nVolunteers needed for the 2016 State VFW Baseball Tournament hosted by Post 612 August 11-August 14th. Contact Rick Bugbee @ 218-770-5656.
X-ALT-DESC;FMTTYPE=text/html:The 2016 State VFW Baseball Tournament<br />\nAugust 11 10am&nbsp\; through August 14 1:00 pm<br />\n<br />\n<span class="_4n-j fsl">Volunteers needed for the 2016 State VFW Baseball Tournament hosted by Post 612 August 11-August 14th. Contact Rick Bugbee @ 218-770-5656.</span>
LOCATION:Delagoon Park Fergus Falls\, Minnesota 56537
UID:e.314.33302
SEQUENCE:3
DTSTAMP:20260425T110412Z
URL:https://business.fergusfalls.com/events/details/state-vfw-baseball-tournament-08-11-2016-33302
END:VEVENT

END:VCALENDAR
