BEGIN:VCALENDAR
VERSION:2.0
PRODID:-//ChamberMaster//Event Calendar 2.0//EN
METHOD:PUBLISH
X-PUBLISHED-TTL:P3D
REFRESH-INTERVAL:P3D
CALSCALE:GREGORIAN
BEGIN:VEVENT
DTSTART:20181016T130000Z
DTEND:20181016T151500Z
X-MICROSOFT-CDO-ALLDAYEVENT:FALSE
SUMMARY:Statewide Policy Tour - MN Chamber
DESCRIPTION:Statewide Policy Tour - Fergus Falls - StoneL/Metso\n\nPlease join us in Fergus Falls and make your voice heard in the\n\n2019 Legislative Session. Hear what Minnesota companies are\n\nforecasting for growth and what it means for the MN Chamber's\n\nlegislative agenda to grow our economy together.\n\n\n	Network with your peers\n	Discuss policy changes to help your business succeed and grow jobs in Minnesota\n	Engage in our grassroots efforts\n	Tour the StoneL/Metso facility following the meeting! \n\n\nRegistration | 8:00 a.m.\nMeeting | 8:15 a.m. - 9:15 a.m.\n\nOptional Tour | 9:15 a.m. - 10:15 a.m.\n\n*For the tour\, all guests should wear closed toe and heel shoes with slacks. \n\nNo ties are recommended in the production areas. Space is limited!
X-ALT-DESC;FMTTYPE=text/html:<div class="cvg-u-grid-row cvg-u-grid-row-0" data-reactid=".0.0.$/=10.2.0.0.$section1.$row0" font-size:="" helvetica="" style="box-sizing: inherit\; margin-left: 0px\; margin-right: 0px\; color: rgb(0\, 27\, 50)\; word-wrap: break-word\; font-family: Arial\, ">\n<div class="cvg-u-column-md-12" data-reactid=".0.0.$/=10.2.0.0.$section1.$row0.$column0" style="box-sizing: border-box\; position: relative\; min-height: 1px\; padding-left: 15px\; padding-right: 15px\; float: left\; width: 1170px\;">\n<div data-reactid=".0.0.$/=10.2.0.0.$section1.$row0.$column0.$widget1" style="box-sizing: inherit\;">\n<div class="cvg-EventTitleWidget -id-10" data-reactid=".0.0.$/=10.2.0.0.$section1.$row0.$column0.$widget1.0" style="box-sizing: inherit\; font-size: 36px\; font-weight: bold\; padding: 0px 10px\;">\n<p><span style="font-size:12px\;"><span style="font-family:verdana\;"><strong><span style="color:#001B32\;">Statewide Policy Tour - Fergus Falls - StoneL/Metso<br />\nPlease join us in Fergus Falls and make your voice heard in the<br />\n2019 Legislative Session.&nbsp\;</span></strong><strong><span style="color:#001B32\;">Hear what Minnesota companies are<br />\nforecasting for growth and what it means&nbsp\;for the MN Chamber&#39\;s<br />\nlegislative agenda to grow our economy together.</span></strong></span></span></p>\n\n<ul>\n	<li style="margin-bottom:0in\;margin-bottom:.0001pt\;"><span style="font-size:12px\;"><span style="font-family:verdana\;"><span style="color:#001B32\;">Network with your peers</span></span></span></li>\n	<li style="margin-bottom:0in\;margin-bottom:.0001pt\;"><span style="font-size:12px\;"><span style="font-family:verdana\;"><span style="color:#001B32\;">Discuss policy changes to help your business succeed and grow jobs in Minnesota</span></span></span></li>\n	<li style="margin-bottom:0in\;margin-bottom:.0001pt\;"><span style="font-size:12px\;"><span style="font-family:verdana\;"><span style="color:#001B32\;">Engage in our grassroots efforts</span></span></span></li>\n	<li style="margin-bottom:0in\;margin-bottom:.0001pt\;"><span style="font-size:12px\;"><span style="font-family:verdana\;"><span style="color:#001B32\;">Tour the StoneL/Metso facility following the meeting!&nbsp\;</span></span></span></li>\n</ul>\n\n<div style="margin-bottom:0in\;margin-bottom:.0001pt\;"><span style="font-size:12px\;"><span style="font-family:verdana\;"><span style="color:#001B32\;"><strong><span style="color:black\;">Registration | 8:00 a.m.</span></strong></span></span></span></div>\n<span style="font-size:12px\;"><span style="font-family:verdana\;"><strong><span style="color:black\;">Meeting | 8:15 a.m. - 9:15 a.m.<br />\nOptional Tour | 9:15 a.m. - 10:15 a.m.</span></strong><br />\n<strong><span style="color:red\;">*For the tour\, all guests should wear closed toe and heel shoes with slacks.&nbsp\;<br />\nNo ties are recommended in the production areas. Space is limited!</span></strong></span></span></div>\n</div>\n</div>\n</div>\n
LOCATION:StoneL (a division of Metso) 26271 US Hwy. 59 Fergus Falls\, MN
UID:e.314.50332
SEQUENCE:3
DTSTAMP:20260423T150744Z
URL:https://business.fergusfalls.com/events/details/statewide-policy-tour-mn-chamber-50332
END:VEVENT

END:VCALENDAR
