BEGIN:VCALENDAR
VERSION:2.0
PRODID:-//ChamberMaster//Event Calendar 2.0//EN
METHOD:PUBLISH
X-PUBLISHED-TTL:P3D
REFRESH-INTERVAL:P3D
CALSCALE:GREGORIAN
BEGIN:VEVENT
DTSTART:20170310T013000Z
DTEND:20170312T030000Z
X-MICROSOFT-CDO-ALLDAYEVENT:FALSE
SUMMARY:Steel Magnolias
DESCRIPTION:Steel Magnolias
X-ALT-DESC;FMTTYPE=text/html:&nbsp\;Steel Magnolias<br />\n&nbsp\;
LOCATION:Waage Theatre\, M State -Fergus Falls Campus 1414 College Way Fergus Falls MN 56537
UID:e.314.38814
SEQUENCE:3
DTSTAMP:20260424T225139Z
URL:https://business.fergusfalls.com/events/details/steel-magnolias-38814
END:VEVENT

END:VCALENDAR
