BEGIN:VCALENDAR
VERSION:2.0
PRODID:-//ChamberMaster//Event Calendar 2.0//EN
METHOD:PUBLISH
X-PUBLISHED-TTL:P3D
REFRESH-INTERVAL:P3D
CALSCALE:GREGORIAN
BEGIN:VEVENT
DTSTART:20190521T160000Z
DTEND:20190521T180000Z
X-MICROSOFT-CDO-ALLDAYEVENT:FALSE
SUMMARY:Stenerson Lumber Annual Brat Feed
DESCRIPTION:We appreciate our customer and neighbors! \n\nPlease join us for the Stenerson Lumber - Annual Brat Feed \n\n\n\nBrats\, hot dogs\, and all of the fixin's\n\n\n\nFergus Falls - Stenerson Lumber\n\nTues.\, May 21\n\n11:00am-1:00pm\n\n\n\nAll customers\, contractors\, and crews are welcome to attend each rain or shine event!
X-ALT-DESC;FMTTYPE=text/html:<strong>We appreciate our customer and neighbors!&nbsp\;<br />\nPlease join us for the Stenerson Lumber - Annual Brat Feed </strong><br />\n<br />\nBrats\, hot dogs\, and all of the fixin&#39\;s<br />\n<br />\n<strong>Fergus Falls - Stenerson Lumber<br />\nTues.\, May 21<br />\n11:00am-1:00pm</strong><br />\n<br />\nAll customers\, contractors\, and crews are welcome to attend each rain or shine event!
LOCATION:Stenerson Lumber 324 E. Washington Ave. Fergus Falls\, MN
UID:e.314.53984
SEQUENCE:3
DTSTAMP:20260423T050345Z
URL:https://business.fergusfalls.com/events/details/stenerson-lumber-annual-brat-feed-53984
END:VEVENT

END:VCALENDAR
