BEGIN:VCALENDAR
VERSION:2.0
PRODID:-//ChamberMaster//Event Calendar 2.0//EN
METHOD:PUBLISH
X-PUBLISHED-TTL:P3D
REFRESH-INTERVAL:P3D
CALSCALE:GREGORIAN
BEGIN:VEVENT
DTSTART:20191129T160000Z
DTEND:20191201T000000Z
X-MICROSOFT-CDO-ALLDAYEVENT:FALSE
SUMMARY:Tangles to Treasures Storewide Yarn Sale
DESCRIPTION:Shop local at Tangles to Treasures. 20% off all yarns in the store Friday\, Nov. 29th and Saturday\, Nov. 30th! Featuring hand dyed and locally sourced wool. Shop our designer clothing and local art. Gift Certificates for the Knitters in your life. We have small looms from Schacht Spindle perfect for weavers on the go! Custom knitting available - order now for Christmas!
X-ALT-DESC;FMTTYPE=text/html:Shop local at Tangles to Treasures. 20% off all yarns in the store Friday\, Nov. 29th and Saturday\, Nov. 30th! Featuring hand dyed and locally sourced wool. Shop our designer clothing and local art. Gift Certificates for the Knitters in your life. We have small looms from Schacht Spindle perfect for weavers on the go! Custom knitting available - order now for Christmas!
LOCATION:202 W Lincoln Ave\, Fergus Falls Downtown\, across from the Viking Cafe!
UID:e.314.55914
SEQUENCE:3
DTSTAMP:20260422T190050Z
URL:https://business.fergusfalls.com/events/details/storewide-yarn-sale-55914
END:VEVENT

END:VCALENDAR
