BEGIN:VCALENDAR
VERSION:2.0
PRODID:-//ChamberMaster//Event Calendar 2.0//EN
METHOD:PUBLISH
X-PUBLISHED-TTL:P3D
REFRESH-INTERVAL:P3D
CALSCALE:GREGORIAN
BEGIN:VEVENT
DTSTART:20160611T013000Z
DTEND:20160610T053000Z
X-MICROSOFT-CDO-ALLDAYEVENT:FALSE
SUMMARY:Street Dance at the VFW Post
DESCRIPTION:VFW Post #612\n\nJoin us for the annual VFW Summerfest Street Dance!
X-ALT-DESC;FMTTYPE=text/html:<span style="font-size: 18px\;"><strong>VFW Post #612</strong></span><br />\n<span style="color: rgb(29\, 33\, 41)\; font-family: helvetica\, arial\, sans-serif\; font-size: 14px\; line-height: 19.32px\; background-color: rgb(255\, 255\, 255)\;">Join us for the annual VFW Summerfest Street Dance!</span><br />\n&nbsp\;
LOCATION:420 East Washington Ave
UID:e.314.19143
SEQUENCE:3
DTSTAMP:20260425T130652Z
URL:https://business.fergusfalls.com/events/details/street-dance-at-the-vfw-post-06-10-2016-19143
END:VEVENT

END:VCALENDAR
