BEGIN:VCALENDAR
VERSION:2.0
PRODID:-//ChamberMaster//Event Calendar 2.0//EN
METHOD:PUBLISH
X-PUBLISHED-TTL:P3D
REFRESH-INTERVAL:P3D
CALSCALE:GREGORIAN
BEGIN:VEVENT
DTSTART:20200519T173000Z
DTEND:20200519T183000Z
X-MICROSOFT-CDO-ALLDAYEVENT:FALSE
SUMMARY:Stress Management & Strategies Zoom Session
DESCRIPTION:Stress Management & Strategies Zoom meeting with Dr. Ala \n\nTuesday\, May 19\, 2020 @ 12:30pm\n\nAre these challenging times causing you to experience any or all of these?\n\n	feeling worries\, anxious or unsettled\n	racing thoughts / internal dialogue\n	loss of hope and/or happienss\n	lack of feeling (emotionally numb)\n	overly "stressed out"\n	foggy or fuzzy thinking\n	lack of restful sleep\n\nJoin us for a Zoom Session with Dr. Ala (Chiropractor\, Concussion Expert\, Health Coach\, Nutrition Expert\, Acupuncturist). When we are under high stress\, our immune system also suffers and may struggle to protect us from infections and keep us healthy. The only real treatment for COVID-19 is "rest and fluids" - or in other words\, supporting our immune system\, which is our first and last line of defense against viruses. \n\n\n\nLearn about a "Rapid Stress Reset" with Cereset  -- an easy and effective way to get that immune system support  you need while mitigating heavy stress.\n\n\n\nCourtesy of:\n\nClarity Brain Center of Fergus Falls\, MN\n\n104 W. Lincoln Avenue\n\nFergus Falls\, Minnesota\, 56537\n\n218-736-4113\n\n\n\nClarity Brain Center of Fargo\, ND\n\n3029 Brandt Drive South\, Suite A\n\nFargo\, ND 58104\n\n701-566-5306
X-ALT-DESC;FMTTYPE=text/html:<span style="color: rgb(35\, 35\, 51)\; font-family: Lato\, Helvetica\, Arial\; font-size: 14px\;"><span style="font-size:18px\;"><strong>Stress Management &amp\; Strategies&nbsp\;</strong></span></span><strong style="color: rgb(35\, 35\, 51)\; font-family: Lato\, Helvetica\, Arial\; font-size: 18px\;">Zoom meeting&nbsp\;</strong><span style="color: rgb(35\, 35\, 51)\; font-family: Lato\, Helvetica\, Arial\; font-size: 14px\;"><span style="font-size:18px\;"><strong>with Dr. Ala&nbsp\;<br />\nTuesday\, May 19\, 2020 @ 12:30pm</strong></span></span><br />\n<strong style="color: rgb(35\, 35\, 51)\; font-family: Lato\, Helvetica\, Arial\; font-size: 14px\;">Are these challenging times causing you to experience any or all of these?</strong>\n<ul style="color: rgb(35\, 35\, 51)\; font-family: Lato\, Helvetica\, Arial\; font-size: 14px\;">\n	<li>feeling worries\, anxious or unsettled</li>\n	<li>racing thoughts / internal dialogue</li>\n	<li>loss of hope and/or happienss</li>\n	<li>lack of feeling (emotionally numb)</li>\n	<li>overly &quot\;stressed out&quot\;</li>\n	<li>foggy or fuzzy thinking</li>\n	<li>lack of restful sleep</li>\n</ul>\n<span style="color: rgb(35\, 35\, 51)\; font-family: Lato\, Helvetica\, Arial\; font-size: 14px\;">Join us for a Zoom Session with Dr. Ala&nbsp\;(Chiropractor\, Concussion Expert\, Health Coach\, Nutrition Expert\, Acupuncturist). When we are under high stress\, our immune system also suffers and may struggle to protect us from infections and keep us healthy. The only real treatment for COVID-19 is &quot\;rest and fluids&quot\; - or in other words\, supporting our immune system\, which is our first and last line of defense against viruses.&nbsp\;<br />\n<br />\nLearn about a &quot\;Rapid Stress Reset&quot\; with Cereset&reg\; -- an easy and effective way to get that immune system support&nbsp\;&#65279\;you need while mitigating heavy stress.</span><br />\n<br style="box-sizing: border-box\; color: rgb(35\, 35\, 51)\; font-family: Lato\, Helvetica\, Arial\; font-size: 14px\;" />\n<span style="color: rgb(35\, 35\, 51)\; font-family: Lato\, Helvetica\, Arial\; font-size: 14px\;">Courtesy of:<br />\nClarity Brain Center of Fergus Falls\, MN</span><br style="box-sizing: border-box\; color: rgb(35\, 35\, 51)\; font-family: Lato\, Helvetica\, Arial\; font-size: 14px\;" />\n<span style="color: rgb(35\, 35\, 51)\; font-family: Lato\, Helvetica\, Arial\; font-size: 14px\;">104 W. Lincoln Avenue</span><br style="box-sizing: border-box\; color: rgb(35\, 35\, 51)\; font-family: Lato\, Helvetica\, Arial\; font-size: 14px\;" />\n<span style="color: rgb(35\, 35\, 51)\; font-family: Lato\, Helvetica\, Arial\; font-size: 14px\;">Fergus Falls\, Minnesota\, 56537</span><br style="box-sizing: border-box\; color: rgb(35\, 35\, 51)\; font-family: Lato\, Helvetica\, Arial\; font-size: 14px\;" />\n<span style="color: rgb(35\, 35\, 51)\; font-family: Lato\, Helvetica\, Arial\; font-size: 14px\;">218-736-4113</span><br style="box-sizing: border-box\; color: rgb(35\, 35\, 51)\; font-family: Lato\, Helvetica\, Arial\; font-size: 14px\;" />\n<br style="box-sizing: border-box\; color: rgb(35\, 35\, 51)\; font-family: Lato\, Helvetica\, Arial\; font-size: 14px\;" />\n<span style="color: rgb(35\, 35\, 51)\; font-family: Lato\, Helvetica\, Arial\; font-size: 14px\;">Clarity Brain Center of Fargo\, ND</span><br style="box-sizing: border-box\; color: rgb(35\, 35\, 51)\; font-family: Lato\, Helvetica\, Arial\; font-size: 14px\;" />\n<span style="color: rgb(35\, 35\, 51)\; font-family: Lato\, Helvetica\, Arial\; font-size: 14px\;">3029 Brandt Drive South\, Suite A</span><br style="box-sizing: border-box\; color: rgb(35\, 35\, 51)\; font-family: Lato\, Helvetica\, Arial\; font-size: 14px\;" />\n<span style="color: rgb(35\, 35\, 51)\; font-family: Lato\, Helvetica\, Arial\; font-size: 14px\;">Fargo\, ND 58104</span><br style="box-sizing: border-box\; color: rgb(35\, 35\, 51)\; font-family: Lato\, Helvetica\, Arial\; font-size: 14px\;" />\n<span style="color: rgb(35\, 35\, 51)\; font-family: Lato\, Helvetica\, Arial\; font-size: 14px\;">701-566-5306</span>
LOCATION:ZOOM You will receive login information once you've registered.
UID:e.314.57434
SEQUENCE:3
DTSTAMP:20260422T112621Z
URL:https://business.fergusfalls.com/events/details/stress-management-strategies-zoom-session-57434
END:VEVENT

END:VCALENDAR
