BEGIN:VCALENDAR
VERSION:2.0
PRODID:-//ChamberMaster//Event Calendar 2.0//EN
METHOD:PUBLISH
X-PUBLISHED-TTL:P3D
REFRESH-INTERVAL:P3D
CALSCALE:GREGORIAN
BEGIN:VEVENT
DTSTART:20181206T230000Z
DTEND:20181207T010000Z
X-MICROSOFT-CDO-ALLDAYEVENT:FALSE
SUMMARY:Strong Towns Curbside Chat with Chuck Marohn
DESCRIPTION:Fergus Falls Downtown Riverfront Council and Greater Fergus Falls Corp. are pleased to announce an upcoming Strong Towns event featuring keynote speaker Chuck Marohn\, scheduled for Thursday\, December 6th\, 2018. The event will be held at A Center for the Arts in Downtown Fergus Falls\, MN. Speaker\, Chuck Marohn will present The Curbside Chat   an important look at the financial realities facing America's cities\, towns and neighborhoods in a general session\, open to the public\, from 5:30-7:00 PM.\n\nHow can our small towns get stronger - not weaker - when our economy changes? How can we repopulate our empty street and storefronts? These are just two of the questions that will be answered when Fergus Falls Downtown Riverfront Council hosts a STRONG TOWNS presentation featuring founder\, Chuck Marohn.  Marohn will present a live Curbside Chat - An Important Look at the Financial Realities Facing America's Cities\, Towns and Neighborhoods with a Q & A session to follow.  This presentation will include three core concepts central to Strong Towns thinking and will explore them in depth.Tickets for the general public are now on sale at www.fergusarts.org for $22/ticket. Don Pablos will be catering a meal that is included in the ticket price.
X-ALT-DESC;FMTTYPE=text/html:Fergus Falls Downtown Riverfront Council and Greater Fergus Falls Corp. are pleased to announce an upcoming Strong Towns event featuring keynote speaker Chuck Marohn\, scheduled for <strong>Thursday\, December 6<sup>th</sup>\, 2018</strong>. The event will be held at A Center for the Arts in Downtown Fergus Falls\, MN. Speaker\, Chuck Marohn will present <em>The Curbside Chat &ndash\; an important look at the financial realities facing America&rsquo\;s cities\, towns and neighborhoods</em> in a general session\, open to the public\, from 5:30-7:00 PM.<br />\n<span style="color: rgb(102\, 102\, 102)\; font-family: Cabin\, Helvetica\, Arial\, Lucida\, sans-serif\; font-size: 16px\;">How can our small towns get stronger - not weaker - when our economy changes? How can we repopulate our empty street and storefronts? These are just two of the questions that will be answered when Fergus Falls Downtown Riverfront Council hosts a STRONG TOWNS presentation featuring founder\, Chuck Marohn.&nbsp\; Marohn will present a live&nbsp\;</span><em style="color: rgb(102\, 102\, 102)\; font-family: Cabin\, Helvetica\, Arial\, Lucida\, sans-serif\; font-size: 16px\; box-sizing: border-box\; -webkit-tap-highlight-color: transparent\;">Curbside Chat - An Important Look at the Financial Realities Facing America&#39\;s Cities\, Towns and Neighborhoods</em><span style="color: rgb(102\, 102\, 102)\; font-family: Cabin\, Helvetica\, Arial\, Lucida\, sans-serif\; font-size: 16px\;">&nbsp\;with a Q &amp\; A session to follow.&nbsp\; This presentation will include three core concepts central to Strong Towns thinking and will explore them in depth.</span>Tickets for the general public are now on sale at <a href="http://www.ferusarts.org">www.fergusarts.org</a> for $22/ticket. Don Pablos will be catering a meal that is included in the ticket price.&nbsp\;
LOCATION:A Center for the Arts
UID:e.314.50413
SEQUENCE:3
DTSTAMP:20260423T133348Z
URL:https://business.fergusfalls.com/events/details/strong-towns-curbside-chat-with-chuck-marohn-50413
END:VEVENT

END:VCALENDAR
