BEGIN:VCALENDAR
VERSION:2.0
PRODID:-//ChamberMaster//Event Calendar 2.0//EN
METHOD:PUBLISH
X-PUBLISHED-TTL:P3D
REFRESH-INTERVAL:P3D
CALSCALE:GREGORIAN
BEGIN:VEVENT
DTSTART:20160809T140000Z
DTEND:20160809T200000Z
X-MICROSOFT-CDO-ALLDAYEVENT:FALSE
SUMMARY:Substitute Teacher Workshop
DESCRIPTION:Participants will receive training in the substitute teacher's role in the classroom and district\, the basics of classroom management\, instruction\, child development and communication skills.\n\n\n\nParticipants will also be assisted in completing application forms as required by the Minnesota Department of Education.\n\n\n\nBachelor's degree required.\n\n\n\nRegister online at www.lcsc.org/workshops\n\n\n\nPresenter:Kris Mickelson\n\nKris has over twenty years experience in education as a classroom teacher\, a substitute teacher\, and as a facilitator. She is also the Academic Coordinator for the Upward Bound Program at North Dakota State University.
X-ALT-DESC;FMTTYPE=text/html:Participants will receive training in the substitute teacher&#39\;s role in the classroom and district\, the basics of classroom management\, instruction\, child development and communication skills.<br />\n<br />\nParticipants will also be assisted in completing application forms as required by the Minnesota Department of Education.<br />\n<br />\nBachelor&#39\;s degree required.<br />\n<br />\nRegister online at <a href="http://www.lcsc.org/workshops">www.lcsc.org/workshops</a><br />\n<br />\nPresenter:Kris Mickelson<br />\nKris has over twenty years experience in education as a classroom teacher\, a substitute teacher\, and as a facilitator. She is also the Academic Coordinator for the Upward Bound Program at North Dakota State University.
LOCATION:Lakes Country Service Cooperative\, 1001 E. Mount Faith\, Fergus Falls\, MN 56537
UID:e.314.32933
SEQUENCE:3
DTSTAMP:20260425T105922Z
URL:https://business.fergusfalls.com/events/details/substitute-teacher-workshop-08-09-2016-32933
END:VEVENT

END:VCALENDAR
