BEGIN:VCALENDAR
VERSION:2.0
PRODID:-//ChamberMaster//Event Calendar 2.0//EN
METHOD:PUBLISH
X-PUBLISHED-TTL:P3D
REFRESH-INTERVAL:P3D
CALSCALE:GREGORIAN
BEGIN:VEVENT
DTSTART:20181018T140000Z
DTEND:20181018T200000Z
X-MICROSOFT-CDO-ALLDAYEVENT:FALSE
SUMMARY:Substitute Teacher Workshop
DESCRIPTION:Participants will receive training in the substitute teacher's role in the classroom and district\, the basics of classroom management\, instruction\, child development and communication skills.\n\n\n\nParticipants will also be assisted in completing application forms as required by the Minnesota Department of Education.\n\n\n\nBachelor's degree required.\n\n\n\nPresenter:Kris Mickelson\n\nKris has over twenty years experience in education as a classroom teacher\, a substitute teacher\, and as a facilitator. She is also the Academic Coordinator for the Upward Bound Program at North Dakota State University.\n\n\n\nCANCELLATIONS AND REFUNDS\n\n  Cancellations will be accepted up to three days prior to the event date for a full refund.\n\n  Cancellations made within 48 hours of the event start date will forfeit 50% of the course registration fee. Refund requests must be made no later than two weeks after the event.\n\n  Refunds will not be given for non-attendance without prior notification. Those who have not paid in advance will be billed for the full amount.\n\n  Refunds will be given for any event cancelled by LCSC.
X-ALT-DESC;FMTTYPE=text/html:<span style="color: rgb(0\, 0\, 0)\; font-family: verdana\,arial\,sans-serf\; font-size: 10.66px\;">Participants will receive training in the substitute teacher&#39\;s role in the classroom and district\, the basics of classroom management\, instruction\, child development and communication skills.</span><br />\n<br />\n<span style="color: rgb(0\, 0\, 0)\; font-family: verdana\,arial\,sans-serf\; font-size: 10.66px\;">Participants will also be assisted in completing application forms as required by the Minnesota Department of Education.</span><br />\n<br />\n<span style="color: rgb(0\, 0\, 0)\; font-family: verdana\,arial\,sans-serf\; font-size: 10.66px\;">Bachelor&#39\;s degree required.</span><br />\n<br />\n<span style="color: rgb(0\, 0\, 0)\; font-family: verdana\,arial\,sans-serf\; font-size: 10.66px\;">Presenter:Kris Mickelson</span><br />\n<span style="color: rgb(0\, 0\, 0)\; font-family: verdana\,arial\,sans-serf\; font-size: 10.66px\;">Kris has over twenty years experience in education as a classroom teacher\, a substitute teacher\, and as a facilitator. She is also the Academic Coordinator for the Upward Bound Program at North Dakota State University.</span><br />\n<br />\n<span style="color: rgb(0\, 0\, 0)\; font-family: verdana\,arial\,sans-serf\; font-size: 10.66px\;">CANCELLATIONS AND REFUNDS</span><br />\n<span style="color: rgb(0\, 0\, 0)\; font-family: verdana\,arial\,sans-serf\; font-size: 10.66px\;">&bull\; Cancellations will be accepted up to three days prior to the event date for a full refund.</span><br />\n<span style="color: rgb(0\, 0\, 0)\; font-family: verdana\,arial\,sans-serf\; font-size: 10.66px\;">&bull\; Cancellations made within 48 hours of the event start date will forfeit 50% of the course registration fee. Refund requests must be made no later than two weeks after the event.</span><br />\n<span style="color: rgb(0\, 0\, 0)\; font-family: verdana\,arial\,sans-serf\; font-size: 10.66px\;">&bull\; Refunds will not be given for non-attendance without prior notification. Those who have not paid in advance will be billed for the full amount.</span><br />\n<span style="color: rgb(0\, 0\, 0)\; font-family: verdana\,arial\,sans-serf\; font-size: 10.66px\;">&bull\; Refunds will be given for any event cancelled by LCSC.</span>
LOCATION:Lakes Country Service Cooperative 1001 E. Mount Faith Fergus Falls\, MN 56537
UID:e.314.50363
SEQUENCE:3
DTSTAMP:20260423T150614Z
URL:https://business.fergusfalls.com/events/details/substitute-teacher-workshop-10-18-2018-50363
END:VEVENT

END:VCALENDAR
