BEGIN:VCALENDAR
VERSION:2.0
PRODID:-//ChamberMaster//Event Calendar 2.0//EN
METHOD:PUBLISH
X-PUBLISHED-TTL:P3D
REFRESH-INTERVAL:P3D
CALSCALE:GREGORIAN
BEGIN:VEVENT
DTSTART:20160722T010000Z
DTEND:20160722T040000Z
X-MICROSOFT-CDO-ALLDAYEVENT:FALSE
SUMMARY:Summer Fun with Young Living: zap bug\, scrapes & sun burns!
DESCRIPTION:A night with Young Living essential oils at the Fergus Falls Public Library.\n\n\n\nYoung Living is the world leader in essential oil quality and purity. Come learn about the benefits of therapeutic grade essential oils. Discover how these powerful essential oils can be used in your day to day life with your family to create a healthier and more natural home environment. Not only safe\, these oils are also extremely effective and affordable: all guests will get to experience and try them for themselves! \n\n\n\nA brief overview and introduction about these amazing oils\, the everyday oils starter kit\, whats included and how to use it. The focus of this meeting is SUMMER time Oils\, which ones and how to use them!! SPECIAL MAKE & TAKE EVENT: all natural bug spray!!
X-ALT-DESC;FMTTYPE=text/html:<span style="color: rgb(75\, 79\, 86)\; font-family: helvetica\, arial\, sans-serif\; font-size: 14px\; line-height: 18.76px\;">A night with Young Living essential oils at the Fergus Falls Public Library.<br />\n<br />\nYoung Living is the world leader in essential oil quality and purity. Come learn about the benefits of therapeutic grade essential oils. Discover how these powerful essential oils can be used in your day to day life with your family to create a healthier and more natural home environment. Not only safe\, these oils are also extremely effective and affordable: all guests will get to experience and try them for themselves!&nbsp\;</span><br style="color: rgb(75\, 79\, 86)\; font-family: helvetica\, arial\, sans-serif\; font-size: 14px\; line-height: 18.76px\;" />\n<br style="color: rgb(75\, 79\, 86)\; font-family: helvetica\, arial\, sans-serif\; font-size: 14px\; line-height: 18.76px\;" />\n<span style="color: rgb(75\, 79\, 86)\; font-family: helvetica\, arial\, sans-serif\; font-size: 14px\; line-height: 18.76px\;">A brief overview and introduction about these amazing oils\, the everyday oils starter kit\, whats included and how to use it. The focus of this meeting is SUMMER time Oils\, which ones and how to use them!! SPECIAL MAKE &amp\; TAKE EVENT: all natural bug spray!!</span><br style="color: rgb(75\, 79\, 86)\; font-family: helvetica\, arial\, sans-serif\; font-size: 14px\; line-height: 18.76px\;" />\n<br />\n&nbsp\;
LOCATION:Fergus Falls Public Library 205 Hampden Ave\, Fergus Falls\, Minnesota 56537
UID:e.314.32920
SEQUENCE:3
DTSTAMP:20260425T111620Z
URL:https://business.fergusfalls.com/events/details/summer-fun-with-young-living-zap-bug-scrapes-sun-burns-07-21-2016-32920
END:VEVENT

END:VCALENDAR
