BEGIN:VCALENDAR
VERSION:2.0
PRODID:-//ChamberMaster//Event Calendar 2.0//EN
METHOD:PUBLISH
X-PUBLISHED-TTL:P3D
REFRESH-INTERVAL:P3D
CALSCALE:GREGORIAN
BEGIN:VEVENT
DTSTART:20160711T120000Z
DTEND:20160730T000000Z
X-MICROSOFT-CDO-ALLDAYEVENT:FALSE
SUMMARY:Summer Liquidation Sale @ Fergus Home & Hardware
DESCRIPTION:Summer Liquidation Sale at Fergus Home & Hardware (Cullen's Home Center).\n\nOutdoor furniture\n\nup to 50% off floor model furniture\n\ngrills\n\nmattresses - extreme discounts\n\nwindows (mismatched/one of a kind) only $1.00/united inch\n\nappliances\n\naccessories & wall art\n\nin-stock lighting up to 50% off
X-ALT-DESC;FMTTYPE=text/html:Summer Liquidation Sale at Fergus Home &amp\; Hardware (Cullen&#39\;s Home Center).<br />\nOutdoor furniture<br />\nup to 50% off floor model furniture<br />\ngrills<br />\nmattresses - extreme discounts<br />\nwindows (mismatched/one of a kind) only $1.00/united inch<br />\nappliances<br />\naccessories &amp\; wall art<br />\nin-stock lighting up to 50% off<br />\n&nbsp\;
LOCATION:Fergus Home & Hardware (Cullen's Home Center) 1005 N. Tower Rd. Fergus Falls\, MN You drive by everyday -- stop in!
UID:e.314.32937
SEQUENCE:3
DTSTAMP:20260425T111756Z
URL:https://business.fergusfalls.com/events/details/summer-liquidation-sale-fergus-home-hardware-07-11-2016-32937
END:VEVENT

END:VCALENDAR
