BEGIN:VCALENDAR
VERSION:2.0
PRODID:-//ChamberMaster//Event Calendar 2.0//EN
METHOD:PUBLISH
X-PUBLISHED-TTL:P3D
REFRESH-INTERVAL:P3D
CALSCALE:GREGORIAN
BEGIN:VEVENT
DTSTART;VALUE=DATE:20160610
DTEND;VALUE=DATE:20160612
TRANSP:TRANSPARENT
X-MICROSOFT-CDO-ALLDAYEVENT:TRUE
SUMMARY:Summerfest 2016!
DESCRIPTION:Great News!  We will be back at the RTC property this summer for the 2016 SummerFest!!\n\nSummerFest will continue to be a two day event!\n\n \n\nDates for the 2016 Summerfest are:\n\nFRIDAY\, JUNE 10 AND SATURDAY\, JUNE 11\, 2016.\n\n\n\n2016 promises to be bigger and better than ever as we expand on the sucess of 2013\, 2014\, & 2015.  This is an exciting two days of activities designed for all ages including a number of children's activities\, crafters\, music\, food\, and much\, much more.\n\n\n\nThe event is FREE to the public and starts at NOON on Friday with the live Bands and Street Dance.  Saturday's activities start at 9:00 am.  The 2016 event will feature live music through out the day on Saturday\, ending with a Street Dance on Saturday night as well!!.\n\n \n\nStay tuned for additional information as it is determined.\n\n \n\nAlso check out our facebook page for the most up to date information.
X-ALT-DESC;FMTTYPE=text/html:<p>Great News!&nbsp\; We will be back at the RTC property this summer for the 2016 SummerFest!!</p>\n\n<p>SummerFest will continue to be a two day event!</p>\n\n<p>&nbsp\;</p>\n\n<p>Dates for the 2016 Summerfest are:</p>\n\n<p><span>FRIDAY\, JUNE 10 AND SATURDAY\, JUNE 11\, 2016.</span></p>\n\n<p><br />\n2016 promises to be bigger and better than ever as we expand on the sucess of 2013\, 2014\, &amp\; 2015.&nbsp\; This is an exciting two days of activities designed for all ages including a number of children&rsquo\;s activities\, crafters\, music\, food\, and much\, much more.</p>\n\n<p><br />\nThe event is <span>FREE</span> to the public and starts at NOON on Friday with the live Bands and Street Dance.&nbsp\; Saturday&#39\;s activities start at 9:00 am.&nbsp\; The 2016 event will feature live music through out the day on Saturday\, ending with a Street Dance on Saturday night as well!!.</p>\n\n<p>&nbsp\;</p>\n\n<p>Stay tuned for additional information as it is determined.</p>\n\n<p>&nbsp\;</p>\n\n<p>Also check out our facebook page for the most up to date information.</p>\n
LOCATION:
UID:e.314.31072
SEQUENCE:3
DTSTAMP:20260425T144308Z
URL:https://business.fergusfalls.com/events/details/summerfest-2016-06-10-2016-31072
END:VEVENT

END:VCALENDAR
