BEGIN:VCALENDAR
VERSION:2.0
PRODID:-//ChamberMaster//Event Calendar 2.0//EN
METHOD:PUBLISH
X-PUBLISHED-TTL:P3D
REFRESH-INTERVAL:P3D
CALSCALE:GREGORIAN
BEGIN:VEVENT
DTSTART:20171130T230000Z
DTEND:20171201T010000Z
X-MICROSOFT-CDO-ALLDAYEVENT:FALSE
SUMMARY:Summerfest Gathering at the Spot
DESCRIPTION:Summerfest Gathering at The Spot Panini & Wine\n\nJoin us as we gather together to share ideas for the 2018 Summerfest!\n\n\n\nThere will be door prizes & light appetizers.
X-ALT-DESC;FMTTYPE=text/html:<span style="font-size: 20px\;"><strong>Summerfest Gathering at&nbsp\;The&nbsp\;Spot Panini &amp\; Wine</strong></span><br />\nJoin us as we gather together to share ideas for the 2018 Summerfest!<br />\n<br />\nThere will be door prizes &amp\; light appetizers.&nbsp\; &nbsp\;<br />\n<br />\n&nbsp\;
LOCATION:The Spot Panini & Wine 220 W. Lincoln Fergus Falls
UID:e.314.43070
SEQUENCE:3
DTSTAMP:20260424T074112Z
URL:https://business.fergusfalls.com/events/details/summerfest-gathering-at-the-spot-43070
END:VEVENT

END:VCALENDAR
