BEGIN:VCALENDAR
VERSION:2.0
PRODID:-//ChamberMaster//Event Calendar 2.0//EN
METHOD:PUBLISH
X-PUBLISHED-TTL:P3D
REFRESH-INTERVAL:P3D
CALSCALE:GREGORIAN
BEGIN:VEVENT
DTSTART:20160624T000000Z
DTEND:20160624T000000Z
X-MICROSOFT-CDO-ALLDAYEVENT:FALSE
SUMMARY:Summersota Nationals - I94 Speedway
DESCRIPTION:Mega Event!! USMTS Modifieds Summersota Nationals. Racing\n\nThursday - Saturday June 23 - 25. $15\,000 to win - Mega Mod Purse over $100\,000.\n\n100 laps of the best modifieds in the world.\n\n\n\nWednesday\, June 22 - Set-up & Practice 7-9pm (FREE Grandstand entry).\n\nRain date: June 26.
X-ALT-DESC;FMTTYPE=text/html:Mega Event!! USMTS Modifieds Summersota Nationals. Racing<br />\nThursday - Saturday June 23 - 25. $15\,000 to win - Mega Mod Purse over $100\,000.<br />\n100 laps of the best modifieds in the world.<br />\n<br />\nWednesday\, June 22 - Set-up &amp\; Practice 7-9pm (FREE Grandstand entry).<br />\nRain date: June 26.
LOCATION:I-94 Speedway North of Fergus falls on Co. Rd. 88 2001 W. Fir Fergus Falls\, MN 56537
UID:e.314.32844
SEQUENCE:3
DTSTAMP:20260425T130733Z
URL:https://business.fergusfalls.com/events/details/summersota-nationals-i94-speedway-06-23-2016-32844
END:VEVENT

END:VCALENDAR
