BEGIN:VCALENDAR
VERSION:2.0
PRODID:-//ChamberMaster//Event Calendar 2.0//EN
METHOD:PUBLISH
X-PUBLISHED-TTL:P3D
REFRESH-INTERVAL:P3D
CALSCALE:GREGORIAN
BEGIN:VEVENT
DTSTART:20180909T200000Z
DTEND:20180909T220000Z
X-MICROSOFT-CDO-ALLDAYEVENT:FALSE
SUMMARY:Sundae Sunday - Fall Kickoff at Bethel
DESCRIPTION:Bethel's Kickoff Sunday is September 9th and we want to celebrate with our community!\n\n\n\nInvite your neighbors and friends.\n\nThis is a great way for them to meet Bethel Church!\n\n\n\nWe will have a wiffle ball tournament\, family friendly games\, and ice cream sundaes for everyone!\n\n\n\nWe'll organize teams for wiffle ball on the day of the event\, so just show up to play wiffle ball with your pastors.\n\n\n\nWiffle Ball Tournament\n\nShow up on the day of the event to join one of the pastor's teams (No age limit).\n\nInflatable obstacle course\, dunk tank\, lawn games and more.\n\nFun games will be organized for all ages.\n\n\n\nIce Cream Sundaes\n\nWith a variety of toppings!\n\nHey\, who doesn't like ice cream?!
X-ALT-DESC;FMTTYPE=text/html:<p><span>Bethel&rsquo\;s Kickoff Sunday is September 9th and we want to celebrate with our community!<br />\n<br />\nInvite your neighbors and friends.<br />\nThis is a great way for them to meet Bethel Church!<br />\n<br />\nWe will have a wiffle ball tournament\, family friendly games\, and ice cream sundaes for everyone!<br />\n<br />\nWe&#39\;ll organize teams for wiffle ball on the day of the event\, so just show up to play wiffle ball with your pastors.<br />\n<br />\nWiffle Ball Tournament<br />\nShow up on the day of the event to join one of the pastor&rsquo\;s teams (No age limit).</span></p>\n\n<p><span>Inflatable obstacle course\, dunk tank\, lawn games and more.<br />\nFun games will be organized for all ages.<br />\n<br />\nIce Cream Sundaes<br />\nWith a variety of toppings!<br />\nHey\, who doesn&rsquo\;t like ice cream?!</span></p>\n
LOCATION:T H Johnson Athletic Park Fergus Falls\, Minnesota 56537
UID:e.314.50321
SEQUENCE:3
DTSTAMP:20260423T165345Z
URL:https://business.fergusfalls.com/events/details/sundae-sunday-fall-kickoff-at-bethel-50321
END:VEVENT

END:VCALENDAR
