BEGIN:VCALENDAR
VERSION:2.0
PRODID:-//ChamberMaster//Event Calendar 2.0//EN
METHOD:PUBLISH
X-PUBLISHED-TTL:P3D
REFRESH-INTERVAL:P3D
CALSCALE:GREGORIAN
BEGIN:VEVENT
DTSTART:20180408T190000Z
DTEND:20180408T210000Z
X-MICROSOFT-CDO-ALLDAYEVENT:FALSE
SUMMARY:Sunday BINGO @ Stalker Lake Bar & Grill
DESCRIPTION:Come out to Stalker Lake Golf Course Bar and Grill for Sunday Bingo at 2pm.\n\nCome out early for a great dinner from the restaurant.
X-ALT-DESC;FMTTYPE=text/html:Come out to Stalker Lake Golf Course Bar and Grill for Sunday Bingo&nbsp\;at 2pm.<br />\nCome out early for a great dinner from the restaurant.
LOCATION:Stalker Lake Golf Course Bar & Grill 15876 Golf Course Rd. Dalton\, MN
UID:e.314.43005
SEQUENCE:3
DTSTAMP:20260423T235835Z
URL:https://business.fergusfalls.com/events/details/sunday-bingo-stalker-lake-bar-grill-04-08-2018-43005
END:VEVENT

END:VCALENDAR
