BEGIN:VCALENDAR
VERSION:2.0
PRODID:-//ChamberMaster//Event Calendar 2.0//EN
METHOD:PUBLISH
X-PUBLISHED-TTL:P3D
REFRESH-INTERVAL:P3D
CALSCALE:GREGORIAN
BEGIN:VEVENT
DTSTART:20180203T000000Z
DTEND:20180203T023000Z
X-MICROSOFT-CDO-ALLDAYEVENT:FALSE
SUMMARY:Winter Party (ASN)
DESCRIPTION:This is a Winter Party for Adults with Disabilities. Stay active\, eat right and have a whole lot of fun! Wear your favorite football team's jersey! Pre-registration is not required for this event. Pay $3 fee at the door.
X-ALT-DESC;FMTTYPE=text/html:This is a Winter Party for Adults with Disabilities. Stay active\, eat right and have a whole lot of fun! Wear your favorite football team&#39\;s jersey! Pre-registration is not required for this event. Pay $3 fee at the door.
LOCATION:Kennedy Secondary School - Cafeteria\, 601 Randolph Ave.\, Fergus Falls
UID:e.314.43652
SEQUENCE:3
DTSTAMP:20260424T025359Z
URL:https://business.fergusfalls.com/events/details/super-bowl-52-pre-party-asn-43652
END:VEVENT

END:VCALENDAR
