BEGIN:VCALENDAR
VERSION:2.0
PRODID:-//ChamberMaster//Event Calendar 2.0//EN
METHOD:PUBLISH
X-PUBLISHED-TTL:P3D
REFRESH-INTERVAL:P3D
CALSCALE:GREGORIAN
BEGIN:VEVENT
DTSTART:20160819T170000Z
DTEND:20160820T000000Z
X-MICROSOFT-CDO-ALLDAYEVENT:FALSE
SUMMARY:SuperHero Scramble - 12th Annual Chamber Golf Tournament
DESCRIPTION:"SuperHero Scramble" 12th Annual Chamber Golf Tournament\n\nFriday\, August 19th at Pebble Lake Golf Club in Fergus Falls\n\n18 holes of fun on the greens. Games\, prizes and extreme networking.\n\nGrand Prize Drawing includes: 55" LG 1080p Smart TV & More!\n\nDress Up Like Your Favorite Super Hero -- or Super Villain\n\nGrand Prize Drawing: 55" LG Smart HDTV\n\nHole-in-One on #8 WINS 2016 Chevy Malibu LT courtesy of Minnesota Motor Co.\n\nDinner following from the American Legion\n\nClick Here for Golf Registration Form\n\n\n\nAll teams & sponsors who dress up as a SuperHero (or Super Villain)\, will have a chance to win $100 Fergus Bucks!
X-ALT-DESC;FMTTYPE=text/html:&quot\;SuperHero Scramble&quot\;&nbsp\;12th Annual Chamber Golf Tournament<br />\nFriday\, August 19th at Pebble Lake Golf Club in Fergus Falls<br />\n18 holes of fun on the greens. Games\, prizes and extreme networking.<br />\nGrand Prize Drawing includes: 55&quot\; LG 1080p Smart&nbsp\;TV &amp\; More!<br />\nDress Up Like Your Favorite Super Hero -- or Super Villain<br />\nGrand Prize Drawing: 55&quot\; LG Smart HDTV<br />\nHole-in-One on #8 WINS 2016 Chevy Malibu LT courtesy of Minnesota Motor Co.<br />\nDinner following from the American Legion<br />\n<span style="font-size: 14px\;"><strong><a href="https://chambermaster.blob.core.windows.net/userfiles/UserFiles/chambers/314/File/GolfRegistrationForm2016.pdf"><span style="background-color: rgb(255\, 255\, 0)\;">Click Here for Golf Registration Form</span></a><br />\n<br />\n<span style="color: rgb(255\, 0\, 0)\;">All teams &amp\; sponsors who dress up as a SuperHero (or Super Villain)\, will have a chance to win $100 Fergus Bucks!</span></strong></span><br />\n&nbsp\;
LOCATION:Pebble Lake Golf Course 1918 Pebble Lake Golf Course Drive Fergus Falls\, MN 56537
UID:e.314.32326
SEQUENCE:3
DTSTAMP:20260425T112104Z
URL:https://business.fergusfalls.com/events/details/superhero-scramble-12th-annual-chamber-golf-tournament-08-19-2016-32326
END:VEVENT

END:VCALENDAR
