BEGIN:VCALENDAR
VERSION:2.0
PRODID:-//ChamberMaster//Event Calendar 2.0//EN
METHOD:PUBLISH
X-PUBLISHED-TTL:P3D
REFRESH-INTERVAL:P3D
CALSCALE:GREGORIAN
BEGIN:VEVENT
DTSTART:20151025T043000Z
DTEND:20151024T193000Z
X-MICROSOFT-CDO-ALLDAYEVENT:FALSE
SUMMARY:Supermarket Sweep at Service Food!
DESCRIPTION:Find us as Service Food!\n\n \nNoon Kiwanis\, in partnership with Service Food is bringing Supermarket Sweep to Fergus Falls!\n\n\n\nGet your "Red Hots" and come for a $3 lunch beforehand in the Service Food parking lot as we get ready to watch one lucky 'sweeper' fill up his or her cart!\n\n\n\nCost per ticket is $10 and available through Service Food or any Noon Kiwanian.
X-ALT-DESC;FMTTYPE=text/html:<span style="color:#FF0000\;"><span style="font-size:20px\;"><strong>Find us as Service Food!</strong></span></span><br />\n&nbsp\;\n<p style="margin: 0px\; padding: 0px\; color: rgb(0\, 0\, 0)\; font-family: Verdana\, Geneva\, Arial\, helvetica\, sans-serif\; font-size: 12px\; line-height: normal\;"><span style="font-size:18px\;">Noon Kiwanis\, in partnership with Service Food is bringing Supermarket Sweep to Fergus Falls!<br />\n<br />\nGet your &quot\;Red Hots&quot\; and come for a $3 lunch beforehand in the Service Food parking lot as we get ready to watch one lucky &#39\;sweeper&#39\; fill up his or her cart!</span></p>\n\n<p style="margin: 0px\; padding: 0px\; color: rgb(0\, 0\, 0)\; font-family: Verdana\, Geneva\, Arial\, helvetica\, sans-serif\; font-size: 12px\; line-height: normal\;"><br />\n<span style="font-size:18px\;">Cost per ticket is $10 and available through Service Food or any Noon Kiwanian.</span></p>\n
LOCATION:Service Food
UID:e.314.25080
SEQUENCE:3
DTSTAMP:20260426T030600Z
URL:https://business.fergusfalls.com/events/details/supermarket-sweep-at-service-food-10-24-2015-25080
END:VEVENT

END:VCALENDAR
