BEGIN:VCALENDAR
VERSION:2.0
PRODID:-//ChamberMaster//Event Calendar 2.0//EN
METHOD:PUBLISH
X-PUBLISHED-TTL:P3D
REFRESH-INTERVAL:P3D
CALSCALE:GREGORIAN
BEGIN:VEVENT
DTSTART;VALUE=DATE:20151016
DTEND;VALUE=DATE:20151019
TRANSP:TRANSPARENT
X-MICROSOFT-CDO-ALLDAYEVENT:TRUE
SUMMARY:Supermarket Sweep Tickets! Last Weekend to Purchase!
DESCRIPTION:Last weekend to get your Super Market Sweep tickets!  Find us as Service Food!\n\n\n\nNoon Kiwanis\, in partnership with Service Food is bringing Supermarket Sweep to Fergus Falls! One lucky 'sweeper' will fill up his or her cart!\n\n\n\nCost per ticket is $10 and available through Service Food or any Noon Kiwanian.\n\n\n\nProceeds support the Fergus Falls Noon Kiwanis\, to support our community\, like the re-opening of the Lake Alice Ice Skating Rink!
X-ALT-DESC;FMTTYPE=text/html:<span style="color:#FF0000\;"><span style="font-size:20px\;"><strong>Last weekend to get your Super Market Sweep tickets! &nbsp\;Find us as Service Food!</strong></span></span><br />\n<br />\n<span style="font-size:18px\;">Noon Kiwanis\, in partnership with Service Food is bringing Supermarket Sweep to Fergus Falls! One lucky &#39\;sweeper&#39\; will fill up his or her cart!<br />\n<br />\nCost per ticket is $10 and available through Service Food or any Noon Kiwanian.<br />\n<br />\nProceeds support the Fergus Falls Noon Kiwanis\, to support our community\, like&nbsp\;the re-opening of the Lake Alice Ice Skating Rink! &nbsp\;</span><br />\n&nbsp\;
LOCATION:Service Food
UID:e.314.25079
SEQUENCE:3
DTSTAMP:20260426T030437Z
URL:https://business.fergusfalls.com/events/details/supermarket-sweep-tickets-last-weekend-to-purchase-10-16-2015-25079
END:VEVENT

END:VCALENDAR
