BEGIN:VCALENDAR
VERSION:2.0
PRODID:-//ChamberMaster//Event Calendar 2.0//EN
METHOD:PUBLISH
X-PUBLISHED-TTL:P3D
REFRESH-INTERVAL:P3D
CALSCALE:GREGORIAN
BEGIN:VEVENT
DTSTART;VALUE=DATE:20180425
DTEND;VALUE=DATE:20180427
TRANSP:TRANSPARENT
X-MICROSOFT-CDO-ALLDAYEVENT:TRUE
SUMMARY:Supervision & Performance Appraisal Skills
DESCRIPTION:Supervision & Performance Appraisal Skills to Help You Keep "the Right People" - at the MAHUBE-OTWA Offices in Detroit Lakes. This is an essential tool kit for new supervisors and will help make supervisory roles more rewarding for those who have been supervising for many years. Visit www.bemidjiconsulting.com/training for more information.
X-ALT-DESC;FMTTYPE=text/html:Supervision &amp\; Performance Appraisal Skills to Help You Keep &quot\;the Right People&quot\; - at the MAHUBE-OTWA Offices in Detroit Lakes. This is an essential tool kit for new supervisors and will help make supervisory roles more rewarding for those who have been supervising for many years. Visit www.bemidjiconsulting.com/training for more information.
LOCATION:MAHUBE-OTWA Offices\, 1125 West River Road\, Detroit Lakes
UID:e.314.48755
SEQUENCE:3
DTSTAMP:20260423T235214Z
URL:https://business.fergusfalls.com/events/details/supervision-performance-appraisal-skills-48755
END:VEVENT

END:VCALENDAR
