BEGIN:VCALENDAR
VERSION:2.0
PRODID:-//ChamberMaster//Event Calendar 2.0//EN
METHOD:PUBLISH
X-PUBLISHED-TTL:P3D
REFRESH-INTERVAL:P3D
CALSCALE:GREGORIAN
BEGIN:VEVENT
DTSTART:20180829T140000Z
DTEND:20180829T200000Z
X-MICROSOFT-CDO-ALLDAYEVENT:FALSE
SUMMARY:Supervisory Professional Development Opportunities
DESCRIPTION:Supervisory Professional Development Opportunities\n\nHeld by Lakes Country Service Cooperative
X-ALT-DESC;FMTTYPE=text/html:Supervisory Professional Development Opportunities<br />\nHeld by Lakes Country Service Cooperative<br />\n&nbsp\;
LOCATION:
UID:e.314.49992
SEQUENCE:3
DTSTAMP:20260423T193643Z
URL:https://business.fergusfalls.com/events/details/supervisory-professional-development-opportunities-49992
END:VEVENT

END:VCALENDAR
