BEGIN:VCALENDAR
VERSION:2.0
PRODID:-//ChamberMaster//Event Calendar 2.0//EN
METHOD:PUBLISH
X-PUBLISHED-TTL:P3D
REFRESH-INTERVAL:P3D
CALSCALE:GREGORIAN
BEGIN:VEVENT
DTSTART:20160121T000000Z
DTEND:20160121T013000Z
X-MICROSOFT-CDO-ALLDAYEVENT:FALSE
SUMMARY:Survivor of Suicide Loss Support Group
DESCRIPTION:Sometimes in life\, events occur that fracture the very foundation on which we stand. Our life\, as we have known it\, is forever changed and we find ourselves in an unexpected struggle\, first just to survive and then to move forward. Our SOSL support group provides a comfortable\, non-threatening setting to share your experiences and thoughts OR you may just want to listen. Feelings shared are kept confident\, confidential and discussed only within the confines of the group meeting. Being with those who have had similar experiences\, who understand in a special way\, is a gift the group shares with one another\, a gift that may not be available elsewhere. Questions are encouraged to assist in coping with the different stages of the grieving process and with the feelings that are particularly intense in the aftermath of losing a loved one to suicide\, such as: confusion\, anger rage\, shock\, guilt\, denial\, disbelief and\, for some relief.
X-ALT-DESC;FMTTYPE=text/html:Sometimes in life\, events occur that fracture the very foundation on which we stand. Our life\, as we have known it\, is forever changed and we find ourselves in an unexpected struggle\, first just to survive and then to move forward. Our SOSL support group provides a comfortable\, non-threatening setting to share your experiences and thoughts OR you may just want to listen. Feelings shared are kept confident\, confidential and discussed only within the confines of the group meeting. Being with those who have had similar experiences\, who understand in a special way\, is a gift the group shares with one another\, a gift that may not be available elsewhere. Questions are encouraged to assist in coping with the different stages of the grieving process and with the feelings that are particularly intense in the aftermath of losing a loved one to suicide\, such as: confusion\, anger rage\, shock\, guilt\, denial\, disbelief and\, for some relief.
LOCATION:Lake Region Health Care Physician's Conference Room
UID:e.314.30707
SEQUENCE:3
DTSTAMP:20260425T233019Z
URL:https://business.fergusfalls.com/events/details/survivor-of-suicide-loss-support-group-01-20-2016-30707
END:VEVENT

END:VCALENDAR
