BEGIN:VCALENDAR
VERSION:2.0
PRODID:-//ChamberMaster//Event Calendar 2.0//EN
METHOD:PUBLISH
X-PUBLISHED-TTL:P3D
REFRESH-INTERVAL:P3D
CALSCALE:GREGORIAN
BEGIN:VEVENT
DTSTART:20181231T140000Z
DTEND:20181231T230000Z
X-MICROSOFT-CDO-ALLDAYEVENT:FALSE
SUMMARY:Sweets with Sue
DESCRIPTION:Join us for Sweets with Sue on MONDAY\, DEC. 31st from 8 am-5 pm\n\nas we mark Sue Olson's retirement from our INVISION team. \n\nFor 16 years\, Sue has been the smiling face greeting our patients with warmth and effciency. We are grateful for her dedication and we hope you will stop by and help us extend our heartfelt thanks and best wishes for her future adventures.
X-ALT-DESC;FMTTYPE=text/html:<p align="LEFT"><span style="font-size: 12px\;"><b><font face="PTSans-Bold"><font face="PTSans-Bold">Join us for <span style="font-size: 12px\;"><font face="LetristaScript"><font face="LetristaScript">Sweets </font></font><b><font face="PTSans-Bold"><font face="PTSans-Bold">with </font></font></b><font face="LetristaScript"><font face="LetristaScript">Sue <span style="font-size: 12px\;"><b><font face="PTSans-Bold"><font face="PTSans-Bold">on <span style="font-size: 12px\;"><b><font face="PTSans-Bold"><font face="PTSans-Bold">MONDAY\, DEC. 31</font></font><font face="PTSans-Bold"><font face="PTSans-Bold">st </font></font><font face="PTSans-Bold"><font face="PTSans-Bold">from 8 am-5 pm</font></font></b></span></font></font></b></span></font></font></span></font></font></b></span></p>\n\n<p align="LEFT"><span style="font-size: 12px\;"><font face="PTSans-Regular"><font face="PTSans-Regular">as we mark Sue Olson&rsquo\;s retirement from our INVISION <span style="font-size: 12px\;"><font face="PTSans-Regular"><font face="PTSans-Regular">team. </font></font></span></font></font></span></p>\n\n<p align="LEFT"><span style="font-size: 12px\;"><i><font face="PTSans-Italic"><font face="PTSans-Italic">For 16 years\, </font></font></i><font face="PTSans-Regular"><font face="PTSans-Regular">Sue has been the smiling face greeting <span style="font-size: 12px\;"><font face="PTSans-Regular"><font face="PTSans-Regular">our patients with warmth and eff<span style="font-size: 12px\;"><font face="PTSans-Regular"><font face="PTSans-Regular">ciency. We are grateful <span style="font-size: 12px\;"><font face="PTSans-Regular"><font face="PTSans-Regular">for her dedication and we hope you will stop by and help <span style="font-size: 12px\;"><font face="PTSans-Regular"><font face="PTSans-Regular">us extend our heartfelt thanks and best wishes for her <span style="font-size: 12px\;"><font face="PTSans-Regular"><font face="PTSans-Regular">future adventures.</font></font></span></font></font></span></font></font></span></font></font></span></font></font></span></font></font></span></p>\n
LOCATION:INVISION 810 North Baird Fergus Falls\, mn 56537
UID:e.314.52183
SEQUENCE:3
DTSTAMP:20260423T121933Z
URL:https://business.fergusfalls.com/events/details/sweets-with-sue-52183
END:VEVENT

END:VCALENDAR
