BEGIN:VCALENDAR
VERSION:2.0
PRODID:-//ChamberMaster//Event Calendar 2.0//EN
METHOD:PUBLISH
X-PUBLISHED-TTL:P3D
REFRESH-INTERVAL:P3D
CALSCALE:GREGORIAN
BEGIN:VEVENT
DTSTART:20180414T230000Z
DTEND:20180415T030000Z
X-MICROSOFT-CDO-ALLDAYEVENT:FALSE
SUMMARY:Swing into Spring
DESCRIPTION:Swing into Spring is an annual big band event held to support the Fergus Falls Band Boosters. The night consists of music\, dancing\, games and a large silent auction.
X-ALT-DESC;FMTTYPE=text/html:Swing into Spring is an annual big band event held to support the Fergus Falls Band Boosters. The night consists of music\, dancing\, games and a large silent auction.
LOCATION:Fergus Falls VFW
UID:e.314.43544
SEQUENCE:3
DTSTAMP:20260423T235042Z
URL:https://business.fergusfalls.com/events/details/swing-into-spring-43544
END:VEVENT

END:VCALENDAR
