BEGIN:VCALENDAR
VERSION:2.0
PRODID:-//ChamberMaster//Event Calendar 2.0//EN
METHOD:PUBLISH
X-PUBLISHED-TTL:P3D
REFRESH-INTERVAL:P3D
CALSCALE:GREGORIAN
BEGIN:VEVENT
DTSTART:20170125T163000Z
DTEND:20170126T013000Z
X-MICROSOFT-CDO-ALLDAYEVENT:FALSE
SUMMARY:Taco John's Fundraiser!
DESCRIPTION:Come eat at Taco John's on January 25th between 11:30 and 7:30 and 20% of all sales will go to Friends of the Orchestra\, our orchestra booster group. Eat delicious food and support the orchestra!
X-ALT-DESC;FMTTYPE=text/html:Come eat at Taco John&#39\;s on January 25th between 11:30 and 7:30 and 20% of all sales will go to Friends of the Orchestra\, our orchestra booster group. Eat delicious food and support the orchestra!
LOCATION:Taco John's (Fergus Falls\, MN) 1212 N Union Avenue\, Fergus Falls\,
UID:e.314.37226
SEQUENCE:3
DTSTAMP:20260425T002649Z
URL:https://business.fergusfalls.com/events/details/taco-john-s-fundraiser-37226
END:VEVENT

END:VCALENDAR
