BEGIN:VCALENDAR
VERSION:2.0
PRODID:-//ChamberMaster//Event Calendar 2.0//EN
METHOD:PUBLISH
X-PUBLISHED-TTL:P3D
REFRESH-INTERVAL:P3D
CALSCALE:GREGORIAN
BEGIN:VEVENT
DTSTART;VALUE=DATE:20200317
DTEND;VALUE=DATE:20200328
TRANSP:TRANSPARENT
X-MICROSOFT-CDO-ALLDAYEVENT:TRUE
SUMMARY:Take Out Blitz #FF2GO
DESCRIPTION:Take Out Blitz #FF2GO\n\n\n\nThis is a very crucial time during this unprecedented event- which is why our local businesses\, especially our restaurants\, need us now more than ever.\n\n\n\nParticipate in our Takeout Blitz via Facebook - see how many local restaurants you can support from now until March 27th! Tag us on Facebook and show us your delicious meals/growlers made with the spirit and hard work of one of the restaurants below! We'll be giving away $25 in Fergus Bucks to one lucky winner. More details to come.  #FF2GO\n\n	American Legion Post 30\n	Applebee's Grill & Bar\n	Big Chief Cafe'\n	Cafe 116\n	Cally's  \n	Country Inn & Suites - Fergus Falls\n	Dairyland \n	Don Pablo's - Fergus Falls\n	Double A Catering\n	Fiesta Brava\n	Godfather's Pizza @ Cenex Zip Trip\n	Hardee's\n	Jimmy John's #2785\n	Lakeway Express\n	Lincoln Nutrition\n	McDonald's \n	Northern Aire Lanes \n	Outstate Brewing Company\n	Papa Murphy's\n	Papacitos Burritos Fergus Falls\n	Perkins Family Restaurant & Bakery\n	Perks Coffee & Tea\n	Pizza Ranch \n	Stumbeano's Coffee Roasterie \n	Taco John's\n	The Fabled Farmer\n	The Viking Cafe\n	Union Pizza & Brewing CO.
X-ALT-DESC;FMTTYPE=text/html:<span style="font-size: 22px\;"><strong><span style="color: rgb(0\, 0\, 128)\;">Take Out Blitz </span>#FF2GO</strong></span><br />\n<br />\n<strong>This is a very crucial time during this unprecedented event- which is why our local businesses\, especially our restaurants\, need us now more than ever.</strong><br />\n<br />\nParticipate in our Takeout Blitz via Facebook - see how many local restaurants you can support from now until March 27th! Tag us on&nbsp\;Facebook and show us your delicious meals/growlers made with the spirit and hard work of one of the restaurants below! We&#39\;ll be giving away $25 in Fergus Bucks to one lucky winner. More details to come.&nbsp\; #FF2GO\n<ul>\n	<li><a href="https://www.facebook.com/American-Legion-Post-30-599289863480093/?ref=br_rs"><span style="color: rgb(0\, 0\, 255)\;">American Legion Post 30</span></a></li>\n	<li>Applebee&#39\;s Grill &amp\; Bar</li>\n	<li><a href="http://www.fergusfalls.com/list/member/big-chief-cafe-3020" target="_blank"><span style="color: rgb(0\, 0\, 255)\;">Big Chief Cafe&#39\;</span></a></li>\n	<li><a href="http://www.fergusfalls.com/list/member/cafe-116-1190" target="_blank"><span style="color: rgb(0\, 0\, 255)\;">Cafe 116</span></a></li>\n	<li>Cally&#39\;s &nbsp\;</li>\n	<li><a href="http://www.fergusfalls.com/list/member/country-inn-suites-fergus-falls-146" target="_blank"><span style="color: rgb(0\, 0\, 255)\;">Country Inn &amp\; Suites - Fergus Falls</span></a></li>\n	<li><a href="http://www.facebook.com/Dairyland-154577624597579/app/190322544333196/?ref=page_internal"><span style="color: rgb(0\, 0\, 255)\;">Dairyland&nbsp\;</span></a></li>\n	<li>Don Pablo&#39\;s - Fergus Falls</li>\n	<li><a href="http://www.fergusfalls.com/list/member/double-a-catering-1552" target="_blank"><span style="color: rgb(0\, 0\, 255)\;">Double A Catering</span></a></li>\n	<li><a class="_64-f" href="https://www.facebook.com/Fiesta-Brava-253647084839023/"><span style="color: rgb(0\, 0\, 255)\;">Fiesta Brava</span></a></li>\n	<li><a href="http://www.fergusfalls.com/list/member/cenex-zip-trip-godfather-s-pizza-3085" target="_blank"><span style="color: rgb(0\, 0\, 255)\;">Godfather&#39\;s Pizza @ Cenex Zip Trip</span></a></li>\n	<li><a href="http://www.fergusfalls.com/list/member/hardee-s-1762" target="_blank"><span style="color: rgb(0\, 0\, 255)\;">Hardee&#39\;s</span></a></li>\n	<li><a href="http://www.fergusfalls.com/list/member/tpfc2-llc-dba-jimmy-john-s-2785-2956" target="_blank"><span style="color: rgb(0\, 0\, 255)\;">Jimmy John&#39\;s #2785</span></a></li>\n	<li><a href="http://www.fergusfalls.com/list/member/lakeway-express-366" target="_blank"><span style="color: rgb(0\, 0\, 255)\;">Lakeway Express</span></a></li>\n	<li>Lincoln Nutrition</li>\n	<li><a href="http://www.fergusfalls.com/list/member/mcdonald-s-208"><span style="color: rgb(0\, 0\, 255)\;">McDonald&#39\;s </span></a></li>\n	<li><span class="fwn fcg"><span class="fwb fcg" data-ft="{"><a aria-describedby="u_ft_1" aria-owns="js_a7h" data-hovercard="/ajax/hovercard/page.php?id=851430584935022&amp\;extragetparams=%7B%22__tn__%22%3A%22%2CdkC-R-R%22%2C%22eid%22%3A%22ARDofiW8GzM1847EeWyl6H4lsWU0anB6_EOsKjdDa6yCld2rG-eI_LBdcg51BW9l1-NrtcQHHrdY33_X%22%2C%22hc_ref%22%3A%22ARQ7XAgWMA0aR97VOhgJiAYQZqPOxj_qjVoC0z1QJweobGZV-wS_hpjDW1bd2UcJrW8%22%2C%22fref%22%3A%22nf%22%7D" data-hovercard-prefer-more-content-show="1" data-hovercard-referer="ARQ7XAgWMA0aR97VOhgJiAYQZqPOxj_qjVoC0z1QJweobGZV-wS_hpjDW1bd2UcJrW8" href="https://www.facebook.com/northern.airelanes/?__tn__=kC-R&amp\;eid=ARDofiW8GzM1847EeWyl6H4lsWU0anB6_EOsKjdDa6yCld2rG-eI_LBdcg51BW9l1-NrtcQHHrdY33_X&amp\;hc_ref=ARQ7XAgWMA0aR97VOhgJiAYQZqPOxj_qjVoC0z1QJweobGZV-wS_hpjDW1bd2UcJrW8&amp\;fref=nf&amp\;__xts__%5B0%5D=68.ARC_xTTsbX3Ur39k6riyaK19xirI0e11_qLcM1Eu7ct0JQtoySNorf1kK1AKZAZV4CjeEukkZVfAEZ4haL6o3wiP31dzsci0Ietd0Ih4vZ1VQCDi2XyBHe8Pgi5hg3vhyHUAArTEu7J9kxAriaELoVfRL3Uk_rm4l91imkyD9f8i5VhzFZFBpRr7zm9wTaRw5fGLcomQ16-eB20GVBMh3jHbZdwcpzqdpJCu7MROsrlR2OrDM74GQNcdyJBoHcz5WggCGV71h2UOina4qmf6EQ1676ydWaasqbzppMbit3WPA4Vn2ZgiMzr-xDYnGcHvagmRzxaT1oIojeQGzt3lMw" id="js_a7i"><span style="color: rgb(0\, 0\, 255)\;">Northern Aire Lanes</span></a><span style="color: rgb(0\, 0\, 255)\;"> </span></span></span></li>\n	<li>Outstate Brewing Company</li>\n	<li><a href="https://order.papamurphys.com/menu/papa-murphys-lincoln-4" target="_blank">Papa Murphy&#39\;s</a></li>\n	<li>Papacitos Burritos Fergus Falls</li>\n	<li><a href="http://www.fergusfalls.com/list/member/perkins-family-restaurant-bakery-622" target="_blank"><span style="color: rgb(0\, 0\, 255)\;">Perkins Family Restaurant &amp\; Bakery</span></a></li>\n	<li><a href="http://www.facebook.com/perkscoffeeandtea/photos/a.1074699285998297/1851938011607750/?type=3&amp\;theater"><span style="color: rgb(0\, 0\, 255)\;">Perks Coffee &amp\; Tea</span></a></li>\n	<li><a href="http://www.fergusfalls.com/list/member/pizza-ranch-fergus-falls-1037"><span style="color: rgb(0\, 0\, 255)\;">Pizza Ranch </span></a></li>\n	<li><span class="fwn fcg"><span class="fwb fcg" data-ft="{"><a aria-describedby="u_33_1" aria-owns="js_30y" data-hovercard="/ajax/hovercard/page.php?id=121758397866414&amp\;extragetparams=%7B%22__tn__%22%3A%22%2CdkC-R-R%22%2C%22eid%22%3A%22ARDm4TBOZ_AXVtPYZzBb-nGVgTWUQJEjUCUBWwmJNWc5qXG1AwEnO1EM3-fbjS9JiSX_MJOEXzEntxlF%22%2C%22hc_ref%22%3A%22ARTFZFYPC46FmDQQH1SN9UjvO-6sqqD-V-SVq-TlYwpDLKeFppu88yv0Z1KT7Ynpldg%22%2C%22fref%22%3A%22nf%22%7D" data-hovercard-prefer-more-content-show="1" data-hovercard-referer="ARTFZFYPC46FmDQQH1SN9UjvO-6sqqD-V-SVq-TlYwpDLKeFppu88yv0Z1KT7Ynpldg" href="https://www.facebook.com/stumbeanos/?__tn__=kC-R&amp\;eid=ARDm4TBOZ_AXVtPYZzBb-nGVgTWUQJEjUCUBWwmJNWc5qXG1AwEnO1EM3-fbjS9JiSX_MJOEXzEntxlF&amp\;hc_ref=ARTFZFYPC46FmDQQH1SN9UjvO-6sqqD-V-SVq-TlYwpDLKeFppu88yv0Z1KT7Ynpldg&amp\;fref=nf&amp\;__xts__%5B0%5D=68.ARBHi-Wq861t2teX-9bsC7EPkITeF4a0QIOEb8avJziJVSFy0qE7A_f-ncLppb_bRpXQqwFArwprQPyytAbqZhzm1gm0xvUQqGZOl9s3Sscyi6XEMCExXSq3XEKBIDNFF5qjGNtWJe8OPWeSktVL0DZffi25j3D9T1DCzKsmHdqnze0j-2WDuBynxNXnuVIDBm-vteUvOv0h8OTkcCrU6otZ4eMpZoxbBD-O11Qxft43QLE64jfbY71qH22SYwo27k7JHgxcx7TT8hXVlX13bWYVBjz_xFxgMCfDNizvnEhBQ4B4ctBOpswcHEXj_0AUShwh" id="js_32e"><span style="color: rgb(0\, 0\, 255)\;">Stumbeano&#39\;s Coffee Roasterie</span></a><span style="color: rgb(0\, 0\, 255)\;"> </span></span></span></li>\n	<li><a href="http://www.fergusfalls.com/list/member/taco-john-s-258" target="_blank"><span style="color: rgb(0\, 0\, 255)\;">Taco John&#39\;s</span></a></li>\n	<li><a href="http://www.fergusfalls.com/list/member/the-fabled-farmer-2990" target="_blank"><span style="color: rgb(0\, 0\, 255)\;">The Fabled Farmer</span></a></li>\n	<li><span class="fwn fcg"><span class="fwb fcg" data-ft="{"><a aria-describedby="u_2e_1" aria-owns="js_155" data-hovercard="/ajax/hovercard/page.php?id=120554024632222&amp\;extragetparams=%7B%22__tn__%22%3A%22%2CdkC-R-R%22%2C%22eid%22%3A%22ARBzlsLlasK7dV7Ri3x5n041se57BJRUJ412VVVbOS54Epc1zfWtIbXVI848qPCLKTKB-l9UudZTe5zx%22%2C%22hc_ref%22%3A%22ARTVMp5D_Y4S-IYrGLpasRiwIh9JabPV4xvsM4go32Ot7_33SWrDOcqsqGrkQMEq4gs%22%2C%22fref%22%3A%22nf%22%7D" data-hovercard-prefer-more-content-show="1" data-hovercard-referer="ARTVMp5D_Y4S-IYrGLpasRiwIh9JabPV4xvsM4go32Ot7_33SWrDOcqsqGrkQMEq4gs" href="https://www.facebook.com/The-Viking-Cafe-120554024632222/?__tn__=kC-R&amp\;eid=ARBzlsLlasK7dV7Ri3x5n041se57BJRUJ412VVVbOS54Epc1zfWtIbXVI848qPCLKTKB-l9UudZTe5zx&amp\;hc_ref=ARTVMp5D_Y4S-IYrGLpasRiwIh9JabPV4xvsM4go32Ot7_33SWrDOcqsqGrkQMEq4gs&amp\;fref=nf&amp\;__xts__%5B0%5D=68.ARDp76MH4y02WHCYoiK_RwncjMQN91ZX46P9kgLlIxhO5IdYZoui3K7VjPAXZtEXOyxa5-wjkiroSWuIJgrZf0f0SrneHxCTXKC4_HbiIMA8bUz9i7KkffiPnjCOcwRzc05DKEgJgGwd9Pgy715axTolV1wOEF31tZfMPHuXY7dFjVyu85BXgQ2BGH-rbep7Yi8W748xT7g4qKdbU8YdNHEqz4u8NrMv65QwFLq8147Guwnvut57JV0vLBIkTCoz3aJhBGPtC7dljLUOsSujL2NGGclMZfTkWpzSmJxAVpmbZH3acVHDvuEq0VO9f59hsES19lGgJcAsXJFbHzVUPw" id="js_154"><span style="color: rgb(0\, 0\, 255)\;">The Viking Cafe</span></a></span></span></li>\n	<li><span class="_1nb_ fwn fcg" data-ft="{" id="u_3x_8"><span class="fwb" data-ft="{"><a data-hovercard="/ajax/hovercard/page.php?id=714145182026556&amp\;extragetparams=%7B%22__tn__%22%3A%22%2CdkCH-R-R%22%2C%22eid%22%3A%22ARD9GdynpxkEAollSi8fHXWx0cY3l5RRh2qyY2Rp7ub85e1GbhDlvB0_vLi6LsGAKkeiF8ugfCg1Ai7F%22%2C%22hc_ref%22%3A%22ARRbCu5nHzSYGCQfwiTbaxHki34Nx3m_yzNeV_y7O2q0ZMn0K2XhIhlekgnihXJEN0M%22%2C%22fref%22%3A%22nf%22%7D" data-hovercard-prefer-more-content-show="1" data-hovercard-referer="ARRbCu5nHzSYGCQfwiTbaxHki34Nx3m_yzNeV_y7O2q0ZMn0K2XhIhlekgnihXJEN0M" href="https://www.facebook.com/UnionPizzaBrewing/?__tn__=kCH-R&amp\;eid=ARD9GdynpxkEAollSi8fHXWx0cY3l5RRh2qyY2Rp7ub85e1GbhDlvB0_vLi6LsGAKkeiF8ugfCg1Ai7F&amp\;hc_ref=ARRbCu5nHzSYGCQfwiTbaxHki34Nx3m_yzNeV_y7O2q0ZMn0K2XhIhlekgnihXJEN0M&amp\;fref=nf&amp\;__xts__%5B0%5D=68.ARAFrXp07YRWoDkpv4Mqgf96JhlI6j6UdNXhSB8i7nzGuDUHiKjPb7JCCISk5AZ8O-Pbou1YrNvjmsr6ho7h2dJij5qclHepiWKf6ApFAsd3WtkLyap0T5KqqEzg5wiiD0CRK6vDW_T8LisIgWZyQtKyAu5Xne8eoyxBXp_Qel1f2FmE9-6AObvwhTeX8iChhSvC95gHnl0I2kkir6kxBjicrPRolaFNQe-_tiVl-4p1gWpiGaCtgJ-_JgSZha_1I8vyjL3jDiTESJh4CVuESnyJ-1BfN3z9w0I2xkQEMWyviC1ZESFpmmkzQn2zsGgR8lkKaf8M_TT6OtgJbg" id="js_38i"><span style="color: rgb(0\, 0\, 255)\;">Union Pizza &amp\; Brewing CO.</span></a></span></span></li>\n</ul>\n
LOCATION:Fergus Falls Area Restaurants Fergus Falls Area MN 56537
UID:e.314.57354
SEQUENCE:3
DTSTAMP:20260422T124310Z
URL:https://business.fergusfalls.com/events/details/take-out-blitz-ff2go-57354
END:VEVENT

END:VCALENDAR
