BEGIN:VCALENDAR
VERSION:2.0
PRODID:-//ChamberMaster//Event Calendar 2.0//EN
METHOD:PUBLISH
X-PUBLISHED-TTL:P3D
REFRESH-INTERVAL:P3D
CALSCALE:GREGORIAN
BEGIN:VEVENT
DTSTART;VALUE=DATE:20180912
DTEND;VALUE=DATE:20180917
TRANSP:TRANSPARENT
X-MICROSOFT-CDO-ALLDAYEVENT:TRUE
SUMMARY:TALLADEGA NIGHTS in Theatre
DESCRIPTION:Welcome Race Fans!\n\nWissota races we are bringing in...\n\nTALLADEGA NIGHTS  -  PG13\n\n\n\nShowing:\n\nWED 9/12 and THURS 9/13 @ 4:45\n\nFRI-SUN Sept 14-16 @ 12:25 2:35 4:45
X-ALT-DESC;FMTTYPE=text/html:<span style="font-size: medium\;"><span style="font-family: calibri\;">Welcome Race Fans!<br />\nWissota races we are bringing in...<br />\n<strong>TALLADEGA NIGHTS&nbsp\; - &nbsp\;PG13</strong></span></span><br />\n<br />\n<span style="font-size: medium\;"><span style="font-family: calibri\;"><strong>Showing:</strong><br />\n<strong>WED</strong> 9/12 and <strong>THURS </strong>9/13 @ <strong>4:45</strong></span></span><br />\n<span style="font-size: medium\;"><span style="font-family: calibri\;"><strong>FRI-SUN </strong>Sept 14-16 @ <strong>12:25 2:35 4:45</strong></span></span><br />\n&nbsp\;
LOCATION:Westridge Mall - Westridge Cinema Parking behind the Mall Fergus Falls MN
UID:e.314.50357
SEQUENCE:3
DTSTAMP:20260423T165236Z
URL:https://business.fergusfalls.com/events/details/talladega-nights-in-theatre-50357
END:VEVENT

END:VCALENDAR
