BEGIN:VCALENDAR
VERSION:2.0
PRODID:-//ChamberMaster//Event Calendar 2.0//EN
METHOD:PUBLISH
X-PUBLISHED-TTL:P3D
REFRESH-INTERVAL:P3D
CALSCALE:GREGORIAN
BEGIN:VEVENT
DTSTART:20170311T020000Z
DTEND:20170311T050000Z
X-MICROSOFT-CDO-ALLDAYEVENT:FALSE
SUMMARY:Tanya Tucker at Shooting Star Casino in Mahnomen
DESCRIPTION:Tanya Tucker Performing at Shooting Star Casino
X-ALT-DESC;FMTTYPE=text/html:Tanya Tucker Performing at Shooting Star Casino&nbsp\;
LOCATION:Shooting Star Casino Mahnomen\, MN
UID:e.314.38812
SEQUENCE:3
DTSTAMP:20260424T225900Z
URL:https://business.fergusfalls.com/events/details/tanya-tucker-at-shooting-star-casino-in-mahnomen-38812
END:VEVENT

END:VCALENDAR
