BEGIN:VCALENDAR
VERSION:2.0
PRODID:-//ChamberMaster//Event Calendar 2.0//EN
METHOD:PUBLISH
X-PUBLISHED-TTL:P3D
REFRESH-INTERVAL:P3D
CALSCALE:GREGORIAN
BEGIN:VEVENT
DTSTART:20191018T210000Z
DTEND:20191019T020000Z
X-MICROSOFT-CDO-ALLDAYEVENT:FALSE
SUMMARY:Tap Taker Mikkeller Brewing
DESCRIPTION:Milkkeller Brewing of Copenhagen\, Denmark will be co-hosting a tap takeover and sampling party. Operating out of their new US brewery in San Diego\, they are collaborating with the best and brightest west coast master brewers to produce some of the most unique and eclectic beers in North America!\n\n\n\nTickets are $25 in advance ($30 day of) will get you 8 sample pours plus complimentary pizza and snacks. \n\n\n\nCome early and stay late to get the best chance at winning swag and prizes!
X-ALT-DESC;FMTTYPE=text/html:<div style="text-align: center\;"><span style="color:#1D2129"><span style="font-family:arial narrow\,sans-serif"><span style="font-size:14.0pt">Milkkeller Brewing of Copenhagen\, Denmark will be co-hosting a tap takeover and sampling party. Operating out of their new US brewery in San Diego\, they are collaborating with the best and brightest west coast master brewers to produce some of the most unique and eclectic beers in North America!</span></span></span><br />\n<br />\n<strong><span style="color:#1D2129"><span style="font-family:arial narrow\,sans-serif"><span style="font-size:18.0pt">Tickets are $25 in advance ($30 day of) will get you 8 sample pours plus complimentary pizza and snacks. </span></span></span></strong><br />\n<br />\n<em><span style="color:#1D2129"><span style="font-family:franklin gothic medium\,sans-serif"><span style="font-size:12.0pt">Come early and stay late to get the best chance at winning swag and prizes!</span></span></span></em></div>\n
LOCATION:Steel Wheels @ the Olde Train Depot next to the Library 423 South Cascade Street Fergus Falls
UID:e.314.54812
SEQUENCE:3
DTSTAMP:20260422T221646Z
URL:https://business.fergusfalls.com/events/details/tap-taker-mikkeller-brewing-54812
END:VEVENT

END:VCALENDAR
