BEGIN:VCALENDAR
VERSION:2.0
PRODID:-//ChamberMaster//Event Calendar 2.0//EN
METHOD:PUBLISH
X-PUBLISHED-TTL:P3D
REFRESH-INTERVAL:P3D
CALSCALE:GREGORIAN
BEGIN:VEVENT
DTSTART:20171209T170000Z
DTEND:20171209T173000Z
X-MICROSOFT-CDO-ALLDAYEVENT:FALSE
SUMMARY:Target Flash Mob and Shopping!
DESCRIPTION:The fight is not over! The governor is involved and spoke to Target's CEO. Mayor Scheirer is still working on this as well.\n\n\n\nJoin us for a quick flash mob\, where we will be sending a short\, persuasive message to Target HQ! It will be fun and easy! Kids and teens are welcome and encouraged to participate - this is a family-friendly event. Park in the Target parking lot and then meet us in the Jimmy John's lot at 11 a.m. Try to wear a touch of red! Of course\, don't forget to shop at Target\, too! :)
X-ALT-DESC;FMTTYPE=text/html:<span class="_4n-j _3cht fsl" data-testid="event-permalink-details">The fight is not over! The governor is involved and spoke to Target&#39\;s CEO. Mayor Scheirer is still working on this as well.<br />\n<br />\nJoin us for a quick flash mob\, where we will be sending a short\, persuasive message to Target HQ! It will be fun and easy! Kids and teens are welcome and encouraged to participate - this is a family-friendly event. Park in the Target parking lot and then meet us in the Jimmy John&#39\;s lot at 11 a.m. Try to wear a touch of red! Of course\, don&#39\;t forget to shop at Target\, too! :)</span>
LOCATION:Target - Fergus Falls
UID:e.314.43522
SEQUENCE:3
DTSTAMP:20260424T072853Z
URL:https://business.fergusfalls.com/events/details/target-flash-mob-and-shopping-43522
END:VEVENT

END:VCALENDAR
