BEGIN:VCALENDAR
VERSION:2.0
PRODID:-//ChamberMaster//Event Calendar 2.0//EN
METHOD:PUBLISH
X-PUBLISHED-TTL:P3D
REFRESH-INTERVAL:P3D
CALSCALE:GREGORIAN
BEGIN:VEVENT
DTSTART;VALUE=DATE:20160604
DTEND;VALUE=DATE:20160605
TRANSP:TRANSPARENT
X-MICROSOFT-CDO-ALLDAYEVENT:TRUE
SUMMARY:Target United Way Campaign
DESCRIPTION:June is Target's annual United Way Campaign! Each Team Member is asked to pledge money or time during the month of June to help our local United Way. Our Team Members are able to give money out of each check to donate to a local charity of their choice that our  United Way supports. It is a great way we can give back to our local community!
X-ALT-DESC;FMTTYPE=text/html:June is Target&#39\;s annual United Way Campaign! Each Team Member is asked to pledge money or time during the month of June to help our local United Way. Our Team Members are able to give money out of each check to donate to a local charity of their choice that our&nbsp\; United Way supports. It is a great way we can give back to our local community!
LOCATION:Target
UID:e.314.32592
SEQUENCE:3
DTSTAMP:20260425T145246Z
URL:https://business.fergusfalls.com/events/details/target-united-way-campaign-06-04-2016-32592
END:VEVENT

END:VCALENDAR
