BEGIN:VCALENDAR
VERSION:2.0
PRODID:-//ChamberMaster//Event Calendar 2.0//EN
METHOD:PUBLISH
X-PUBLISHED-TTL:P3D
REFRESH-INTERVAL:P3D
CALSCALE:GREGORIAN
BEGIN:VEVENT
DTSTART:20151025T003000Z
DTEND:20151025T045500Z
X-MICROSOFT-CDO-ALLDAYEVENT:FALSE
SUMMARY:Tavern 59 Costume Halloween Party
DESCRIPTION:Tavern 59 \n\nLive Music Prizes \n\nCostume Halloween Party\n\nOct 24th 7:30 pm
X-ALT-DESC;FMTTYPE=text/html:<strong><span style="color: rgb(255\, 0\, 0)\;">Tavern 59 </span><br />\n<span style="color: rgb(255\, 140\, 0)\;">Live Music Prizes </span><br />\n<span style="color: rgb(255\, 0\, 0)\;">Costume Halloween Party</span><br />\n<span style="color: rgb(0\, 0\, 0)\;">Oct 24th 7:30 pm</span><span style="color: rgb(255\, 165\, 0)\;"> </span></strong>
LOCATION:Tavern 59 1918 Pebble Lake Golf Dr Fergus Falls 218-739-4014
UID:e.314.25076
SEQUENCE:3
DTSTAMP:20260426T030428Z
URL:https://business.fergusfalls.com/events/details/tavern-59-costume-halloween-party-10-24-2015-25076
END:VEVENT

END:VCALENDAR
