BEGIN:VCALENDAR
VERSION:2.0
PRODID:-//ChamberMaster//Event Calendar 2.0//EN
METHOD:PUBLISH
X-PUBLISHED-TTL:P3D
REFRESH-INTERVAL:P3D
CALSCALE:GREGORIAN
BEGIN:VEVENT
DTSTART:20180324T153000Z
DTEND:20180325T043000Z
X-MICROSOFT-CDO-ALLDAYEVENT:FALSE
SUMMARY:Teddy Bear Picnic
DESCRIPTION:Fergus Falls Noon Kiwanis Presents:\n\nTeddy Bear Picnic\n\nSaturday\, March 24\n\n10:30 - 11:30am\n\n\n\nTeddy bear stories\, songs\, a puppet show\, and treats. Courtesy of the Fergus Falls Noon Kiwanis.\n\n\n\nLocation: FFPL
X-ALT-DESC;FMTTYPE=text/html:<span class="_4n-j _fbReactionComponent__eventDetailsContentTags fsl" data-testid="event-permalink-details">Fergus Falls Noon Kiwanis Presents:<br />\nTeddy Bear Picnic<br />\nSaturday\, March 24<br />\n10:30 - 11:30am<br />\n<br />\nTeddy bear stories\, songs\, a puppet show\, and treats. Courtesy of the Fergus Falls Noon Kiwanis.<br />\n<br />\nLocation: FFPL</span>
LOCATION:Fergus Falls Public Library 1505 Pebble Lake Rd.\, Fergus Falls
UID:e.314.44969
SEQUENCE:3
DTSTAMP:20260424T012051Z
URL:https://business.fergusfalls.com/events/details/teddy-bear-picnic-44969
END:VEVENT

END:VCALENDAR
