BEGIN:VCALENDAR
VERSION:2.0
PRODID:-//ChamberMaster//Event Calendar 2.0//EN
METHOD:PUBLISH
X-PUBLISHED-TTL:P3D
REFRESH-INTERVAL:P3D
CALSCALE:GREGORIAN
BEGIN:VEVENT
DTSTART:20160409T150000Z
DTEND:20160409T160000Z
X-MICROSOFT-CDO-ALLDAYEVENT:FALSE
SUMMARY:Teddy Bear Picnic - Noon Kiwanis
DESCRIPTION:Noon Kiwanis Teddy Bear Picnic\n\n\n\nBring you favorite teddy bear or other stuffed animal\n\n	Stories\n	Song\n	Treats\n	Puppet show
X-ALT-DESC;FMTTYPE=text/html:<strong><span style="font-size: 18px\;"><span style="font-family: comic sans ms\;"><span style="color: rgb(0\, 0\, 255)\;">Noon Kiwanis Teddy Bear Picnic</span></span></span></strong><br />\n<br />\nBring you&nbsp\;favorite teddy bear or other&nbsp\;stuffed animal\n<ul>\n	<li>Stories</li>\n	<li>Song</li>\n	<li>Treats</li>\n	<li>Puppet show</li>\n</ul>\n
LOCATION:Fergus Falls Public Library 205 E Hampden Ave Fergus Falls
UID:e.314.32511
SEQUENCE:3
DTSTAMP:20260425T163034Z
URL:https://business.fergusfalls.com/events/details/teddy-bear-picnic-noon-kiwanis-04-09-2016-32511
END:VEVENT

END:VCALENDAR
