BEGIN:VCALENDAR
VERSION:2.0
PRODID:-//ChamberMaster//Event Calendar 2.0//EN
METHOD:PUBLISH
X-PUBLISHED-TTL:P3D
REFRESH-INTERVAL:P3D
CALSCALE:GREGORIAN
BEGIN:VEVENT
DTSTART:20190101T030000Z
DTEND:20190101T070000Z
X-MICROSOFT-CDO-ALLDAYEVENT:FALSE
SUMMARY:Tempest LIVE at the Z
DESCRIPTION:Tempest will be performing LIVE at the Z103 Bar and Grill on Monday\, December 31st! Stop in for a drink and enjoy!
X-ALT-DESC;FMTTYPE=text/html:<div class="_63ew" data-testid="event-permalink-details"><span>Tempest will be performing LIVE at the Z103 Bar and Grill on Monday\, December 31st! Stop in for a drink and enjoy!</span></div>\n
LOCATION:Z103 Bar & Grill 902 Frontier Drive Fergus Falls
UID:e.314.52179
SEQUENCE:3
DTSTAMP:20260423T105619Z
URL:https://business.fergusfalls.com/events/details/tempest-live-at-the-z-52179
END:VEVENT

END:VCALENDAR
