BEGIN:VCALENDAR
VERSION:2.0
PRODID:-//ChamberMaster//Event Calendar 2.0//EN
METHOD:PUBLISH
X-PUBLISHED-TTL:P3D
REFRESH-INTERVAL:P3D
CALSCALE:GREGORIAN
BEGIN:VEVENT
DTSTART;VALUE=DATE:20160506
DTEND;VALUE=DATE:20160509
TRANSP:TRANSPARENT
X-MICROSOFT-CDO-ALLDAYEVENT:TRUE
SUMMARY:Ten Mile Lake Opens!
DESCRIPTION:Ten Mile Lake Resort and Steakhouse Opening May 7th\n\nMother's Day hours: 11am-9pm\n\nMay hours: Fri-Sun 5-9pm\n\nJune-Aug hours: Wed-Sun 5-9pm
X-ALT-DESC;FMTTYPE=text/html:<strong>Ten Mile Lake Resort and Steakhouse Opening May 7th</strong><br />\n<strong>Mother&#39\;s Day</strong> hours: 11am-9pm<br />\n<strong>May hours</strong>: Fri-Sun 5-9pm<br />\n<strong>June-Aug hours</strong>: Wed-Sun 5-9pm
LOCATION:Ten Mile Lake Resort & Steakhouse 12303 County Highway 35 Dalton\, MN
UID:e.314.32674
SEQUENCE:3
DTSTAMP:20260425T145312Z
URL:https://business.fergusfalls.com/events/details/ten-mile-lake-opens-05-06-2016-32674
END:VEVENT

END:VCALENDAR
