BEGIN:VCALENDAR
VERSION:2.0
PRODID:-//ChamberMaster//Event Calendar 2.0//EN
METHOD:PUBLISH
X-PUBLISHED-TTL:P3D
REFRESH-INTERVAL:P3D
CALSCALE:GREGORIAN
BEGIN:VEVENT
DTSTART:20191128T173000Z
DTEND:20191128T190000Z
X-MICROSOFT-CDO-ALLDAYEVENT:FALSE
SUMMARY:Thanksgiving Dinner at Salvation Army
DESCRIPTION:The Salvation Army of Fergus Falls will be hosting Thanksgiving Dinner from 11:30am to 1:00pm on Thanksgiving Day. We are still looking for volunteers and food donations.\n\n\n\nIf you have a Turkey or other Thanksgiving food donations you wish to donate please do so by Wednesday at 4pm. If you have questions please call 218-739-9692.
X-ALT-DESC;FMTTYPE=text/html:<span aria-live="polite" class="fbPhotosPhotoCaption" data-ft="{&quot\;tn&quot\;:&quot\;K&quot\;}" id="fbPhotoSnowliftCaption" tabindex="0"><span class="hasCaption">The Salvation Army of Fergus Falls will be hosting Thanksgiving Dinner from 11:30am to 1:00pm on Thanksgiving Day. We are still looking for volunteers and food donations.</span></span><br />\n<br />\nIf you have a Turkey or other Thanksgiving food donations you wish to donate please do so by Wednesday at 4pm. If you have questions please call 218-739-9692.<br />\n&nbsp\;
LOCATION:
UID:e.314.55913
SEQUENCE:3
DTSTAMP:20260422T190051Z
URL:https://business.fergusfalls.com/events/details/thanksgiving-dinner-at-salvation-army-55913
END:VEVENT

END:VCALENDAR
