BEGIN:VCALENDAR
VERSION:2.0
PRODID:-//ChamberMaster//Event Calendar 2.0//EN
METHOD:PUBLISH
X-PUBLISHED-TTL:P3D
REFRESH-INTERVAL:P3D
CALSCALE:GREGORIAN
BEGIN:VEVENT
DTSTART:20171116T170000Z
DTEND:20171116T190000Z
X-MICROSOFT-CDO-ALLDAYEVENT:FALSE
SUMMARY:Thanksgiving Open House - Bell Bank Fergus Falls
DESCRIPTION:Enjoy a Thanksgiving open house at the Bell Bank in Fergus Falls (https://www.bellbanks.com/Locations/West-Central-Minnesota/Fergus-Falls).\n\n\n\nAt Bell Bank we are thankful for our customers and community. \n\n\n\nCome on in and warm up with a nice cup of chili or chicken wild rice soup prepared by Service Food Market Fergus Falls and pumpkin bars for dessert.\n\n\n\nRegister to win one of two Thanksgiving feasts.
X-ALT-DESC;FMTTYPE=text/html:<span style="color: rgb(75\, 79\, 86)\; text-transform: none\; text-indent: 0px\; letter-spacing: normal\; font-family: Helvetica\, Arial\, sans-serif\; font-size: 14px\; font-style: normal\; font-weight: normal\; word-spacing: 0px\; float: none\; display: inline !important\; white-space: normal\; orphans: 2\; widows: 2\; background-color: rgb(255\, 255\, 255)\; font-variant-ligatures: normal\; font-variant-caps: normal\; -webkit-text-stroke-width: 0px\; text-decoration-style: initial\; text-decoration-color: initial\;">Enjoy a Thanksgiving open house at the Bell Bank in Fergus Falls (</span><a data-lynx-mode="async" data-lynx-uri="https://l.facebook.com/l.php?u=https%3A%2F%2Fwww.bellbanks.com%2FLocations%2FWest-Central-Minnesota%2FFergus-Falls&amp\;h=ATMXou0p1a_iMAOCQbHHE4hssSdLTT5Vmue41s0v0aEPhbX7vzOne9l0uLC5Wq0pPI3uoXnR2bALD9GUgoeZqvwV7Mxx10h9O432q0Ll94aI9qh72N_Y-dLtcgbH_TdBz_rsReir-OTlsZigIdOpGqt-K-ZhnlP2KnjS2loGD1XJ5w" href="https://www.bellbanks.com/Locations/West-Central-Minnesota/Fergus-Falls" rel="nofollow noopener" style="color: rgb(54\, 88\, 153)\; text-transform: none\; text-indent: 0px\; letter-spacing: normal\; font-family: Helvetica\, Arial\, sans-serif\; font-size: 14px\; font-style: normal\; font-weight: normal\; text-decoration: none\; word-spacing: 0px\; white-space: normal\; cursor: pointer\; orphans: 2\; widows: 2\; background-color: rgb(255\, 255\, 255)\; font-variant-ligatures: normal\; font-variant-caps: normal\; -webkit-text-stroke-width: 0px\;" target="_blank"><span style="font-family: inherit\;">https://www.bellbanks.com/</span><wbr /><span style="font-family: inherit\;">Locations/</span><wbr /><span style="font-family: inherit\;">West-Central-Minnesota/</span><wbr />Fergus-Falls</a><span style="color: rgb(75\, 79\, 86)\; text-transform: none\; text-indent: 0px\; letter-spacing: normal\; font-family: Helvetica\, Arial\, sans-serif\; font-size: 14px\; font-style: normal\; font-weight: normal\; word-spacing: 0px\; float: none\; display: inline !important\; white-space: normal\; orphans: 2\; widows: 2\; background-color: rgb(255\, 255\, 255)\; font-variant-ligatures: normal\; font-variant-caps: normal\; -webkit-text-stroke-width: 0px\; text-decoration-style: initial\; text-decoration-color: initial\;">).</span><br style="color: rgb(75\, 79\, 86)\; text-transform: none\; text-indent: 0px\; letter-spacing: normal\; font-family: Helvetica\, Arial\, sans-serif\; font-size: 14px\; font-style: normal\; font-weight: normal\; word-spacing: 0px\; white-space: normal\; orphans: 2\; widows: 2\; background-color: rgb(255\, 255\, 255)\; font-variant-ligatures: normal\; font-variant-caps: normal\; -webkit-text-stroke-width: 0px\; text-decoration-style: initial\; text-decoration-color: initial\;" />\n<br style="color: rgb(75\, 79\, 86)\; text-transform: none\; text-indent: 0px\; letter-spacing: normal\; font-family: Helvetica\, Arial\, sans-serif\; font-size: 14px\; font-style: normal\; font-weight: normal\; word-spacing: 0px\; white-space: normal\; orphans: 2\; widows: 2\; background-color: rgb(255\, 255\, 255)\; font-variant-ligatures: normal\; font-variant-caps: normal\; -webkit-text-stroke-width: 0px\; text-decoration-style: initial\; text-decoration-color: initial\;" />\n<span style="color: rgb(75\, 79\, 86)\; text-transform: none\; text-indent: 0px\; letter-spacing: normal\; font-family: Helvetica\, Arial\, sans-serif\; font-size: 14px\; font-style: normal\; font-weight: normal\; word-spacing: 0px\; float: none\; display: inline !important\; white-space: normal\; orphans: 2\; widows: 2\; background-color: rgb(255\, 255\, 255)\; font-variant-ligatures: normal\; font-variant-caps: normal\; -webkit-text-stroke-width: 0px\; text-decoration-style: initial\; text-decoration-color: initial\;">At Bell Bank we are thankful for our customers and community.<span>&nbsp\;</span></span><br style="color: rgb(75\, 79\, 86)\; text-transform: none\; text-indent: 0px\; letter-spacing: normal\; font-family: Helvetica\, Arial\, sans-serif\; font-size: 14px\; font-style: normal\; font-weight: normal\; word-spacing: 0px\; white-space: normal\; orphans: 2\; widows: 2\; background-color: rgb(255\, 255\, 255)\; font-variant-ligatures: normal\; font-variant-caps: normal\; -webkit-text-stroke-width: 0px\; text-decoration-style: initial\; text-decoration-color: initial\;" />\n<br style="color: rgb(75\, 79\, 86)\; text-transform: none\; text-indent: 0px\; letter-spacing: normal\; font-family: Helvetica\, Arial\, sans-serif\; font-size: 14px\; font-style: normal\; font-weight: normal\; word-spacing: 0px\; white-space: normal\; orphans: 2\; widows: 2\; background-color: rgb(255\, 255\, 255)\; font-variant-ligatures: normal\; font-variant-caps: normal\; -webkit-text-stroke-width: 0px\; text-decoration-style: initial\; text-decoration-color: initial\;" />\n<span style="color: rgb(75\, 79\, 86)\; text-transform: none\; text-indent: 0px\; letter-spacing: normal\; font-family: Helvetica\, Arial\, sans-serif\; font-size: 14px\; font-style: normal\; font-weight: normal\; word-spacing: 0px\; float: none\; display: inline !important\; white-space: normal\; orphans: 2\; widows: 2\; background-color: rgb(255\, 255\, 255)\; font-variant-ligatures: normal\; font-variant-caps: normal\; -webkit-text-stroke-width: 0px\; text-decoration-style: initial\; text-decoration-color: initial\;">Come on in and warm up with a nice cup of chili or chicken wild rice soup prepared by<span>&nbsp\;</span></span><a aria-controls="js_6lw" aria-describedby="js_6lx" aria-haspopup="true" data-hovercard="/ajax/hovercard/page.php?id=791126657611009&amp\;extragetparams=%7B%22directed_target_id%22%3A251517452038716%7D" data-hovercard-prefer-more-content-show="1" href="https://www.facebook.com/servicefoodmarketff/" id="js_6ly" style="color: rgb(54\, 88\, 153)\; text-transform: none\; text-indent: 0px\; letter-spacing: normal\; font-family: Helvetica\, Arial\, sans-serif\; font-size: 14px\; font-style: normal\; font-weight: normal\; text-decoration: underline\; word-spacing: 0px\; white-space: normal\; cursor: pointer\; orphans: 2\; widows: 2\; background-color: rgb(255\, 255\, 255)\; font-variant-ligatures: normal\; font-variant-caps: normal\; -webkit-text-stroke-width: 0px\;">Service Food Market Fergus Falls</a><span style="color: rgb(75\, 79\, 86)\; text-transform: none\; text-indent: 0px\; letter-spacing: normal\; font-family: Helvetica\, Arial\, sans-serif\; font-size: 14px\; font-style: normal\; font-weight: normal\; word-spacing: 0px\; float: none\; display: inline !important\; white-space: normal\; orphans: 2\; widows: 2\; background-color: rgb(255\, 255\, 255)\; font-variant-ligatures: normal\; font-variant-caps: normal\; -webkit-text-stroke-width: 0px\; text-decoration-style: initial\; text-decoration-color: initial\;"><span>&nbsp\;</span>and pumpkin bars for dessert</span><span style="color: rgb(75\, 79\, 86)\; text-transform: none\; text-indent: 0px\; letter-spacing: normal\; font-family: Helvetica\, Arial\, sans-serif\; font-size: 14px\; font-style: normal\; font-weight: normal\; word-spacing: 0px\; float: none\; display: inline !important\; white-space: normal\; orphans: 2\; widows: 2\; background-color: rgb(255\, 255\, 255)\; font-variant-ligatures: normal\; font-variant-caps: normal\; -webkit-text-stroke-width: 0px\; text-decoration-style: initial\; text-decoration-color: initial\;">.</span><br style="color: rgb(75\, 79\, 86)\; text-transform: none\; text-indent: 0px\; letter-spacing: normal\; font-family: Helvetica\, Arial\, sans-serif\; font-size: 14px\; font-style: normal\; font-weight: normal\; word-spacing: 0px\; white-space: normal\; orphans: 2\; widows: 2\; background-color: rgb(255\, 255\, 255)\; font-variant-ligatures: normal\; font-variant-caps: normal\; -webkit-text-stroke-width: 0px\; text-decoration-style: initial\; text-decoration-color: initial\;" />\n<br style="color: rgb(75\, 79\, 86)\; text-transform: none\; text-indent: 0px\; letter-spacing: normal\; font-family: Helvetica\, Arial\, sans-serif\; font-size: 14px\; font-style: normal\; font-weight: normal\; word-spacing: 0px\; white-space: normal\; orphans: 2\; widows: 2\; background-color: rgb(255\, 255\, 255)\; font-variant-ligatures: normal\; font-variant-caps: normal\; -webkit-text-stroke-width: 0px\; text-decoration-style: initial\; text-decoration-color: initial\;" />\n<span style="color: rgb(75\, 79\, 86)\; text-transform: none\; text-indent: 0px\; letter-spacing: normal\; font-family: Helvetica\, Arial\, sans-serif\; font-size: 14px\; font-style: normal\; font-weight: normal\; word-spacing: 0px\; float: none\; display: inline !important\; white-space: normal\; orphans: 2\; widows: 2\; background-color: rgb(255\, 255\, 255)\; font-variant-ligatures: normal\; font-variant-caps: normal\; -webkit-text-stroke-width: 0px\; text-decoration-style: initial\; text-decoration-color: initial\;">Register to win one of two Thanksgiving feasts.</span>
LOCATION:Bell Bank 205 W Washington Ave Fergus Falls Hide Map
UID:e.314.43085
SEQUENCE:3
DTSTAMP:20260424T075233Z
URL:https://business.fergusfalls.com/events/details/thanksgiving-open-house-bell-bank-fergus-falls-43085
END:VEVENT

END:VCALENDAR
