BEGIN:VCALENDAR
VERSION:2.0
PRODID:-//ChamberMaster//Event Calendar 2.0//EN
METHOD:PUBLISH
X-PUBLISHED-TTL:P3D
REFRESH-INTERVAL:P3D
CALSCALE:GREGORIAN
BEGIN:VEVENT
DTSTART:20161124T160000Z
DTEND:20161124T180000Z
X-MICROSOFT-CDO-ALLDAYEVENT:FALSE
SUMMARY:Thanksgiving Turkey Shoot - BOWLING!
DESCRIPTION:Thanksgiving morning Turkey Shoot. Jackpot Bowling on Thanksgiving morning. Chances to win $$$ with colored pin bowilng\, optional Strikepot Tickets\, and chance to win one of several frozen turkeys. Must be 18 to bowl and call ahead to get signed up! 736-3333 Many come out as a tradition every year or maybe a new tradition will start!!
X-ALT-DESC;FMTTYPE=text/html:<span style="color: rgb(75\, 79\, 86)\; font-family: Helvetica\, Arial\, sans-serif\; font-size: 14px\; background-color: rgb(255\, 255\, 255)\;">Thanksgiving morning Turkey Shoot. Jackpot Bowling on Thanksgiving morning. Chances to win $$$ with colored pin bowilng\, optional Strikepot Tickets\, and chance to win one of several frozen turkeys. Must be 18 to bowl and call ahead to get signed up! 736-3333 Many come out as a tradition every year or maybe a new tradition will start!!</span>
LOCATION:Northern Aire Lanes
UID:e.314.36990
SEQUENCE:3
DTSTAMP:20260425T035741Z
URL:https://business.fergusfalls.com/events/details/thanksgiving-turkey-shoot-bowling-36990
END:VEVENT

END:VCALENDAR
