BEGIN:VCALENDAR
VERSION:2.0
PRODID:-//ChamberMaster//Event Calendar 2.0//EN
METHOD:PUBLISH
X-PUBLISHED-TTL:P3D
REFRESH-INTERVAL:P3D
CALSCALE:GREGORIAN
BEGIN:VEVENT
DTSTART:20151126T020000Z
DTEND:20151126T050000Z
X-MICROSOFT-CDO-ALLDAYEVENT:FALSE
SUMMARY:Thanksgiving Weekend Kickoff with Karaoke & DJ
DESCRIPTION:As a fun start to the Thanksgiving festivities\, we invite you to show us your vocal skills! We will be hosting Karaoke on Wednesday November 25th starting around 8 pm
X-ALT-DESC;FMTTYPE=text/html:<strong><span class="fsl">As a fun start to the Thanksgiving festivities\, we invite you to show us your vocal skills! We will be hosting Karaoke on Wednesday November 25th starting around 8 pm</span></strong>
LOCATION:Socials Bar & Grill 1815 W Lincoln Ave\, Fergus Falls
UID:e.314.27361
SEQUENCE:3
DTSTAMP:20260426T025457Z
URL:https://business.fergusfalls.com/events/details/thanksgiving-weekend-kickoff-with-karaoke-dj-11-25-2015-27361
END:VEVENT

END:VCALENDAR
