BEGIN:VCALENDAR
VERSION:2.0
PRODID:-//ChamberMaster//Event Calendar 2.0//EN
METHOD:PUBLISH
X-PUBLISHED-TTL:P3D
REFRESH-INTERVAL:P3D
CALSCALE:GREGORIAN
BEGIN:VEVENT
DTSTART:20190311T010000Z
DTEND:20190311T023000Z
X-MICROSOFT-CDO-ALLDAYEVENT:FALSE
SUMMARY:The Beach Boys at Shooting Star Casino
DESCRIPTION:The Beach Boys have continued to create and perform with the same bold imagination and style that marked their explosive debut over 50 years ago. Join us as they perform your favorites including\, "Good Vibrations\," "Barbara Ann\," "I Get Around\," "Help Me Rhonda" and "Surfin' USA!"\n\n\n\nThe Beach Boys will perform live at Shooting Star Casino\, Hotel and Event Center\, located at 777 Casino Road in Mahnomen\, on Friday\, May 10\, at 8 p.m. Tickets start at $40 and go on sale Monday\, March 11\, at 9 a.m. They can be purchased by phone at 1-800-313-SHOW (7469)\, or online at https://bit.ly/2NVY2yl.\n\n\n\n*Ending times may vary
X-ALT-DESC;FMTTYPE=text/html:<span>The Beach Boys have continued to create and perform with the same bold imagination and style that marked their explosive debut over 50 years ago. Join us as they perform your favorites including\, &ldquo\;Good Vibrations\,&rdquo\; &ldquo\;Barbara Ann\,&rdquo\; &ldquo\;I Get Around\,&rdquo\; &ldquo\;Help Me Rhonda&rdquo\; and &ldquo\;Surfin&rsquo\; USA!&rdquo\;<br />\n<br />\nThe Beach Boys will perform live at Shooting Star Casino\, Hotel and Event Center\, located at 777 Casino Road in Mahnomen\, on Friday\, May 10\, at 8 p.m. Tickets start at $40 and go on sale Monday\, March 11\, at 9 a.m. They can be purchased by phone at 1-800-313-SHOW (7469)\, or online at <a data-lynx-mode="hover" href="https://l.facebook.com/l.php?u=https%3A%2F%2Fbit.ly%2F2NVY2yl%3Ffbclid%3DIwAR1w9RD_wXVaLBJaGuWBHc4KUmtzKQsVuy588_-n3d8u3Z3iZS85kkkuZ3E&amp\;h=AT1Smm8XfAKb-RM0XJ6aqMTTUAg7bSXaV84trOEl7KrbxYCQlTevKUH2toiPWx0f0BSf0y2hSTja3M9RB4rBoTluJVked_dvpcc75jclH6nf5C__cqLmlK0qCq5Vnwn7ew" rel="nofollow" target="_blank"><font color="#0066cc">https://bit.ly/2NVY2yl</font></a>.<br />\n<br />\n*Ending times may vary</span>
LOCATION:
UID:e.314.52781
SEQUENCE:3
DTSTAMP:20260423T080744Z
URL:https://business.fergusfalls.com/events/details/the-beach-boys-at-shooting-star-casino-52781
END:VEVENT

END:VCALENDAR
