BEGIN:VCALENDAR
VERSION:2.0
PRODID:-//ChamberMaster//Event Calendar 2.0//EN
METHOD:PUBLISH
X-PUBLISHED-TTL:P3D
REFRESH-INTERVAL:P3D
CALSCALE:GREGORIAN
BEGIN:VEVENT
DTSTART:20171202T200000Z
DTEND:20171202T220000Z
X-MICROSOFT-CDO-ALLDAYEVENT:FALSE
SUMMARY:The Beck Effect Reception - Work Inspired by Charles Beck
DESCRIPTION:From Nov. 22\, 2017- Jan. 5\, 2018\, the Kaddatz Galleries will be hosting an exhibit in honor of the late Charles Beck. Charles Beck is one of the most recognized MN artists. He was influenced by the landscape of Otter Tail County and the Scandinavian culture and values with which he grew up. He shared with us his unique yet identifiable interpretation of the landscape and nature of this region.
X-ALT-DESC;FMTTYPE=text/html:<span style="color: rgb(75\, 79\, 86)\; text-transform: none\; text-indent: 0px\; letter-spacing: normal\; font-family: Helvetica\, Arial\, sans-serif\; font-size: 14px\; font-style: normal\; font-weight: 400\; word-spacing: 0px\; float: none\; display: inline !important\; white-space: normal\; orphans: 2\; widows: 2\; background-color: rgb(255\, 255\, 255)\; font-variant-ligatures: normal\; font-variant-caps: normal\; -webkit-text-stroke-width: 0px\; text-decoration-style: initial\; text-decoration-color: initial\;">From Nov. 22\, 2017- Jan. 5\, 2018\, the Kaddatz Galleries will be hosting an exhibit in honor of the late Charles Beck. Charles Beck is one of the most recognized MN artists. He was influenced by the landscape of Otter Tail County and the Scandinavian culture and values with which he grew up. He shared with us his unique yet identifiable interpretation of the landscape and nature of this region.</span>
LOCATION:Kaddatz Gallery 111 W Lincoln Ave Fergus Falls
UID:e.314.43095
SEQUENCE:3
DTSTAMP:20260424T061505Z
URL:https://business.fergusfalls.com/events/details/the-beck-effect-reception-work-inspired-by-charles-beck-43095
END:VEVENT

END:VCALENDAR
