BEGIN:VCALENDAR
VERSION:2.0
PRODID:-//ChamberMaster//Event Calendar 2.0//EN
METHOD:PUBLISH
X-PUBLISHED-TTL:P3D
REFRESH-INTERVAL:P3D
CALSCALE:GREGORIAN
BEGIN:VEVENT
DTSTART:20190101T000000Z
DTEND:20190101T070000Z
X-MICROSOFT-CDO-ALLDAYEVENT:FALSE
SUMMARY:The Best New Year's Pageant Ever
DESCRIPTION:The Bastards\, Ditch hoppers and more help Scuzz rock in the new year
X-ALT-DESC;FMTTYPE=text/html:<div class="_63ew" data-testid="event-permalink-details"><span>The Bastards\, Ditch hoppers and more help Scuzz rock in the new year</span></div>\n
LOCATION:The Spot Panini & Wine 220 W Lincoln Ave\, Fergus Falls\, Minnesota 56537
UID:e.314.52185
SEQUENCE:3
DTSTAMP:20260423T105750Z
URL:https://business.fergusfalls.com/events/details/the-best-new-year-s-pageant-ever-52185
END:VEVENT

END:VCALENDAR
