BEGIN:VCALENDAR
VERSION:2.0
PRODID:-//ChamberMaster//Event Calendar 2.0//EN
METHOD:PUBLISH
X-PUBLISHED-TTL:P3D
REFRESH-INTERVAL:P3D
CALSCALE:GREGORIAN
BEGIN:VEVENT
DTSTART:20190413T223000Z
DTEND:20190414T023000Z
X-MICROSOFT-CDO-ALLDAYEVENT:FALSE
SUMMARY:The Big Band-Tastic Benefit
DESCRIPTION:Benefiting the Fergus Falls Public School Band Program. Tickets are $25 in advance $30 at the door and include pasta bar dinner and live band. Meal served from 5:30 to 6:30 p.m. with a free dance lesson at 6:30 p.m. Lakes Area All Star Band plays from 7:30 to 9:30 p.m. Silent Auction\, Games and more all at the VFW in Fergus Falls. Contact Scott Kummrow at (218) 998-0544 for tickets or purchase in advance from your favorite High School Band Student.
X-ALT-DESC;FMTTYPE=text/html:Benefiting the Fergus Falls Public School Band Program. Tickets are $25 in advance $30 at the door and include pasta bar dinner and live band. Meal served from 5:30 to 6:30 p.m. with a free dance lesson at 6:30 p.m. Lakes Area All Star Band plays from 7:30 to 9:30 p.m. Silent Auction\, Games and more all at the VFW in Fergus Falls. Contact Scott Kummrow at (218) 998-0544 for tickets or purchase in advance from your favorite High School Band Student.
LOCATION:Fergus Falls VFW
UID:e.314.52571
SEQUENCE:3
DTSTAMP:20260423T062916Z
URL:https://business.fergusfalls.com/events/details/the-big-band-tastic-benefit-52571
END:VEVENT

END:VCALENDAR
