BEGIN:VCALENDAR
VERSION:2.0
PRODID:-//ChamberMaster//Event Calendar 2.0//EN
METHOD:PUBLISH
X-PUBLISHED-TTL:P3D
REFRESH-INTERVAL:P3D
CALSCALE:GREGORIAN
BEGIN:VEVENT
DTSTART:20221017T160000Z
DTEND:20221017T170000Z
X-MICROSOFT-CDO-ALLDAYEVENT:FALSE
SUMMARY:The Blessing Closet Seminar
DESCRIPTION:The Fergus Falls Blessing Closet is a ministry/outreach that takes donations of gently used clothes\, toys\, and household items. They then use these items to bless others in need. Come hear Lois Stinogel explain more about this ministry. Everyone Welcome!
X-ALT-DESC;FMTTYPE=text/html:The Fergus Falls Blessing Closet is a ministry/outreach that takes donations of gently used clothes\, toys\, and household items. They then use these items to bless others in need. Come hear Lois Stinogel explain more about this ministry. Everyone Welcome!
LOCATION:Fergus Falls Senior Center 115 Lincoln Ave W
UID:e.314.67283
SEQUENCE:3
DTSTAMP:20260421T111554Z
URL:https://business.fergusfalls.com/events/details/the-blessing-closet-seminar-67283
END:VEVENT

END:VCALENDAR
