BEGIN:VCALENDAR
VERSION:2.0
PRODID:-//ChamberMaster//Event Calendar 2.0//EN
METHOD:PUBLISH
X-PUBLISHED-TTL:P3D
REFRESH-INTERVAL:P3D
CALSCALE:GREGORIAN
BEGIN:VEVENT
DTSTART:20191228T020000Z
DTEND:20191228T054500Z
X-MICROSOFT-CDO-ALLDAYEVENT:FALSE
SUMMARY:The Cowboys at the Fergus Falls VFW
DESCRIPTION:The Cowboys at the Fergus Falls VFW\n\nHosted by The Honky-Tonk Stardust Cowboys and Fergus Falls VFW Post 612 and Auxiliary\n\n\n\nCome on out to the Fergus Falls VFW for our last dance of 2019
X-ALT-DESC;FMTTYPE=text/html:<div class="_63ew" data-testid="event-permalink-details">The Cowboys at the Fergus Falls VFW<br />\nHosted by <a data-hovercard="/ajax/hovercard/page.php?id=1437874369760380&amp\;extragetparams=%7B%22eid%22%3A%22ARBj4sTNvrJZi0J7KGO9_WcT-VvkRoXJOgLpHX3sAclwDypLbAZQKWxsx9vLTee0Y8F42UGkFaTwHRUr%22%7D" data-hovercard-position="below" href="https://www.facebook.com/The-Honky-Tonk-Stardust-Cowboys-1437874369760380/?eid=ARBj4sTNvrJZi0J7KGO9_WcT-VvkRoXJOgLpHX3sAclwDypLbAZQKWxsx9vLTee0Y8F42UGkFaTwHRUr"><font color="#0066cc">The Honky-Tonk Stardust Cowboys</font></a> and <a data-hovercard="/ajax/hovercard/page.php?id=317908016189&amp\;extragetparams=%7B%22eid%22%3A%22ARCB-636t6L-X79kOZzXyJZE7a80yGLO_YGuOeax5IrOMuFt-dMMyNtk-ux4awYJqF_h5YQhj0wcqIP5%22%7D" data-hovercard-position="below" href="https://www.facebook.com/vfw612aux/?eid=ARCB-636t6L-X79kOZzXyJZE7a80yGLO_YGuOeax5IrOMuFt-dMMyNtk-ux4awYJqF_h5YQhj0wcqIP5"><font color="#0066cc">Fergus Falls VFW Post 612 and Auxiliary</font></a><br />\n<br />\n<span>Come on out to the Fergus Falls VFW for our last dance of 2019</span></div>\n
LOCATION:Friday\, December 27 8pm-12am
UID:e.314.56012
SEQUENCE:3
DTSTAMP:20260422T172925Z
URL:https://business.fergusfalls.com/events/details/the-cowboys-at-the-fergus-falls-vfw-56012
END:VEVENT

END:VCALENDAR
